BEGIN:VCALENDAR
VERSION:2.0
PRODID:-//Evansburg Vineyard - ECPv6.15.17.1//NONSGML v1.0//EN
CALSCALE:GREGORIAN
METHOD:PUBLISH
X-WR-CALNAME:Evansburg Vineyard
X-ORIGINAL-URL:https://evansburgvineyards.com
X-WR-CALDESC:Events for Evansburg Vineyard
REFRESH-INTERVAL;VALUE=DURATION:PT1H
X-Robots-Tag:noindex
X-PUBLISHED-TTL:PT1H
BEGIN:VTIMEZONE
TZID:UTC
BEGIN:STANDARD
TZOFFSETFROM:+0000
TZOFFSETTO:+0000
TZNAME:UTC
DTSTART:20240101T000000
END:STANDARD
END:VTIMEZONE
BEGIN:VEVENT
DTSTART;VALUE=DATE:20251231
DTEND;VALUE=DATE:20260102
DTSTAMP:20260420T120936
CREATED:20251021T112155Z
LAST-MODIFIED:20251021T120054Z
UID:994737-1767139200-1767311999@evansburgvineyards.com
SUMMARY:Closed for New Years Eve & New Years Day | Dec. 31st & Jan. 1st
DESCRIPTION:We are closed for New Years! See you soon!
URL:https://evansburgvineyards.com/event/closed-for-new-years-eve-new-years-day-dec-31st-jan-1st/
LOCATION:PA
END:VEVENT
BEGIN:VEVENT
DTSTART;TZID=UTC:20260103T000000
DTEND;TZID=UTC:20260103T000000
DTSTAMP:20260420T120936
CREATED:20251211T223646Z
LAST-MODIFIED:20251211T223655Z
UID:994836-1767398400-1767398400@evansburgvineyards.com
SUMMARY:Winemaker's Tour
DESCRIPTION:Come and enjoy a one hour interactive tour led by the winemaker! On the tour you will learn about our vineyard\, our winemaking process\, and gain insight into lab analysis of wine during fermentation and maturation. Afterwards\, you will sit down and relax with a wine tasting that is included in your tour and a free souvenir to take home. \nTours are held every Saturday. Please contact us through our website if you are interested in scheduling a private tour. \nPlease arrive 5 minutes before the tour begins to check in and dress appropriately for the weather as a portion of the tour takes place outside. Tours begin promptly at 11am. We will create a reservation for your party at 12pm after the tour ends. \nTours are nonrefundable but can be rescheduled to a different date with 24 hour or more notice. \nPlease contact us through our website if you are interested in scheduling a private tour. \nBUY TICKETS HERE \n \nClick here to return to our events. \nClick here to go to our Store.
URL:https://evansburgvineyards.com/event/winemakers-tour-149-2-2-2-2-2-2-2-2-2-2-3-2-2-2-2-2-2-2-2/
LOCATION:Evansburg Vineyards\, 3857 Germantown Pike\, Collegeville\, PA\, 19426\, United States
ORGANIZER;CN="Evansburg Vineyards":MAILTO:operations@evansburgvineyards.com
END:VEVENT
BEGIN:VEVENT
DTSTART;TZID=UTC:20260114T183000
DTEND;TZID=UTC:20260114T183000
DTSTAMP:20260420T120936
CREATED:20251229T183809Z
LAST-MODIFIED:20251229T183844Z
UID:994870-1768415400-1768415400@evansburgvineyards.com
SUMMARY:Free Wine Talks Series | Wednesday\, January 14th\, 6:30PM
DESCRIPTION:A new weekly series featuring a different wine and grape variety each week!\nFocus wine schedule:1/14: Dream (Chardonel)1/21: Nostalgia (Cabernet Franc)1/28: Spirited (Riesling)2/11: Serenade (Blend of Marquette/Sauvignon Blanc)\n\n\n\nEnjoy a free sample of each week’s focus wine while Winemaker\, Yuval and Sommelier + Cook\, Noah lead the room through a casual conversation about the grape varieties used for these wines and how they are made into wine. Discover their characteristic flavors and what food they pair with.\n\nYou’re welcome to stick around after and enjoy some dinner and of course\, more wine!
URL:https://evansburgvineyards.com/event/wine-talk-series-3-2/
LOCATION:Evansburg Vineyards\, 3857 Germantown Pike\, Collegeville\, PA\, 19426\, United States
CATEGORIES:Workshop
ORGANIZER;CN="Evansburg Vineyards":MAILTO:operations@evansburgvineyards.com
END:VEVENT
BEGIN:VEVENT
DTSTART;TZID=UTC:20260116T170000
DTEND;TZID=UTC:20260116T200000
DTSTAMP:20260420T120936
CREATED:20260102T225001Z
LAST-MODIFIED:20260102T225001Z
UID:994875-1768582800-1768593600@evansburgvineyards.com
SUMMARY:Live Music: Matt Kresge
DESCRIPTION:Live Music: Matt Kresge \n\n\n\n\n\n\n\n\n\n\n\nMatt Kresge has been performing throughout the Philly area for over 25 years both as a solo performer and with his acoustic duo Shady Groove. His repertoire of classic rock\, folk\, bluegrass\, classic country\, blues and surf creates a musical atmosphere for all. His eclectic mix and the fact that he’s a left-hander playing a right-handed guitar upside down keeps things entertaining to say the least! When he’s not performing\, Matt also teaches guitar\, ukulele and drums throughout Montgomery County.\n\n\n\n\n\n\n\n\n\n\n\n\n\n\n\n\n\n\n\n\n\n\n\n\n\nClick here to return to our events. \nClick here to go to our Store.
URL:https://evansburgvineyards.com/event/live-music-matt-kresge-6-2/
LOCATION:Evansburg Vineyards\, 3857 Germantown Pike\, Collegeville\, PA\, 19426\, United States
CATEGORIES:Live Music
ORGANIZER;CN="Evansburg Vineyards":MAILTO:operations@evansburgvineyards.com
END:VEVENT
BEGIN:VEVENT
DTSTART;TZID=UTC:20260117T110000
DTEND;TZID=UTC:20260117T120000
DTSTAMP:20260420T120936
CREATED:20251211T223826Z
LAST-MODIFIED:20251211T223826Z
UID:994837-1768647600-1768651200@evansburgvineyards.com
SUMMARY:Winemaker's Tour
DESCRIPTION:Come and enjoy a one hour interactive tour led by the winemaker! On the tour you will learn about our vineyard\, our winemaking process\, and gain insight into lab analysis of wine during fermentation and maturation. Afterwards\, you will sit down and relax with a wine tasting that is included in your tour and a free souvenir to take home. \nTours are held every Saturday. Please contact us through our website if you are interested in scheduling a private tour. \nPlease arrive 5 minutes before the tour begins to check in and dress appropriately for the weather as a portion of the tour takes place outside. Tours begin promptly at 11am. We will create a reservation for your party at 12pm after the tour ends. \nTours are nonrefundable but can be rescheduled to a different date with 24 hour or more notice. \nPlease contact us through our website if you are interested in scheduling a private tour. \nBUY TICKETS HERE \n \nClick here to return to our events. \nClick here to go to our Store.
URL:https://evansburgvineyards.com/event/winemakers-tour-149-2-2-2-2-2-2-2-2-2-2-3-2-2-2-2-2-2-2-2-2/
LOCATION:Evansburg Vineyards\, 3857 Germantown Pike\, Collegeville\, PA\, 19426\, United States
ORGANIZER;CN="Evansburg Vineyards":MAILTO:operations@evansburgvineyards.com
END:VEVENT
BEGIN:VEVENT
DTSTART;TZID=UTC:20260117T160000
DTEND;TZID=UTC:20260117T190000
DTSTAMP:20260420T120936
CREATED:20260102T225130Z
LAST-MODIFIED:20260102T225130Z
UID:994876-1768665600-1768676400@evansburgvineyards.com
SUMMARY:Live Music: Acoustic Ferrari
DESCRIPTION:Live Music: Acoustic Ferrari \nAcoustic Ferrari is Suburban Philadelphia based Vocalist/Guitarist who has played everywhere from Pottstown to Atlantic City\, Doylestown to Wilmington and all across the Greater Philadelphia Region. Known for his long sets\, dynamic vocals and passionate performances\, Acoustic Ferrari brings you his interpretations of the best music of the past eight decades. \n\nClick here to return to our events. \nClick here to go to our Store.
URL:https://evansburgvineyards.com/event/live-music-acoustic-ferrari-13-2/
LOCATION:Evansburg Vineyards\, 3857 Germantown Pike\, Collegeville\, PA\, 19426\, United States
CATEGORIES:Live Music
ORGANIZER;CN="Evansburg Vineyards":MAILTO:operations@evansburgvineyards.com
END:VEVENT
BEGIN:VEVENT
DTSTART;TZID=UTC:20260121T183000
DTEND;TZID=UTC:20260121T190000
DTSTAMP:20260420T120936
CREATED:20251229T181342Z
LAST-MODIFIED:20251229T183016Z
UID:994866-1769020200-1769022000@evansburgvineyards.com
SUMMARY:Free Wine Talks Series | Wednesday\, January 21st\, 6:30PM
DESCRIPTION:A new weekly series featuring a different wine and grape variety each week!\nFocus wine schedule:1/14: Dream (Chardonel)1/21: Nostalgia (Cabernet Franc)1/28: Spirited (Riesling)2/11: Serenade (Blend of Marquette/Sauvignon Blanc)\n\n\n\nEnjoy a free sample of each week’s focus wine while Winemaker\, Yuval and Sommelier + Cook\, Noah lead the room through a casual conversation about the grape varieties used for these wines and how they are made into wine. Discover their characteristic flavors and what food they pair with.\n\nYou’re welcome to stick around after and enjoy some dinner and of course\, more wine!
URL:https://evansburgvineyards.com/event/wine-talk-series-3/
LOCATION:Evansburg Vineyards\, 3857 Germantown Pike\, Collegeville\, PA\, 19426\, United States
CATEGORIES:Workshop
ORGANIZER;CN="Evansburg Vineyards":MAILTO:operations@evansburgvineyards.com
END:VEVENT
BEGIN:VEVENT
DTSTART;TZID=UTC:20260122T180000
DTEND;TZID=UTC:20260122T210000
DTSTAMP:20260420T120936
CREATED:20251217T172717Z
LAST-MODIFIED:20260102T200413Z
UID:994840-1769104800-1769115600@evansburgvineyards.com
SUMMARY:Three Course Wine and Food Pairing | Thursday\, January 22nd\, 2026 | Reservation Only
DESCRIPTION:Join Evansburg Vineyards & Bistro for a beautiful night to remember! \nEV Winemaker Yuval Blat and Chef Nolan present 3 unique courses paired perfectly with our housemade wines. \nEach ticket purchase is for 1 person. Please add each ticket individually to include preferred food selections for each guest as well as any relevant allergy or dietary restrictions. Select the same arrival time for all guests included in the table. You must purchase a ticket to attend this event. \n  \nBuy Tickets Here \nPairing Menu \nAppetizer: Velvety baked brie with blackberry jam and warm baguette. \nPaired w/ Dream 2024: Made from our estate-grown Chardonel. An abundance of fresh lime and grapefruit aromas complemented by a well-rounded mouth feel. Refreshing tartness. \nEntrée: \nMain Option: Surf and turf Cajun shrimp and filet medallions with schug chimichurri roasted fingerling potatoes and grilled asparagus. \nVegetarian Substitute: Pasta Primavera\, tomato base with sauteed mediterranean seasoned vegetables including onion\, zucchini\, eggplant\, and peppers. \nPaired w/ Eclipse 2024: This is a fruit forward light body wine made from Carignan grapes sourced from a 90-year-old vineyard at the Nicolini ranch in Lodi. Abundance of ripe berries and pomegranate complemented by nuanced leathery notes. \nDessert: Housemade chocolate mousse topped with whipped cream and chocolate shavings. \nPaired w/ Bliss 2023: A full body\, well-balanced Petite Sirah. Blackberry\, dark chocolate\, and a hint of nutmeg and ginger lead to a lasting finish. \nMore information: \nEach wine accompaniment will be poured in 5oz (regular glass) portions unless otherwise preferred. \nFor any allergy related concerns\, please send an email or include in the allergy box. \nWine pairings are suggested but not required. If you’d like to swap out your wine glass accompaniment on the day of the event\, please notify your server. \nFood will be made to order so please notify us of any allergies or selection changes prior to the date. \nFor any questions\, please send us an email at operations@evansburgvineyards.com.
URL:https://evansburgvineyards.com/event/three-course-wine-and-food-pairing-dinner/
LOCATION:Evansburg Vineyards\, 3857 Germantown Pike\, Collegeville\, PA\, 19426\, United States
ORGANIZER;CN="Evansburg Vineyards":MAILTO:operations@evansburgvineyards.com
END:VEVENT
BEGIN:VEVENT
DTSTART;TZID=UTC:20260123T170000
DTEND;TZID=UTC:20260123T200000
DTSTAMP:20260420T120936
CREATED:20260120T192230Z
LAST-MODIFIED:20260120T192257Z
UID:994904-1769187600-1769198400@evansburgvineyards.com
SUMMARY:Live Music: Scot Silver
DESCRIPTION:Live Music: Scot Silver \nScot Silver is an award winning local musician. He performs with a versatility hailed in the Tri-State area. Scot seamlessly can go from Classic and Contemporary Acoustic Rock to Nouveau Flamenco to Jazz to Country……He has released several albums\, videos\, received radio play and more to come. Scot has also owned and runs a music school\, Silver Music Studios for over 30 years. \n  \nClick here to return to our events. \nClick here to go to our Store.
URL:https://evansburgvineyards.com/event/live-music-scot-silver-2-2/
LOCATION:Evansburg Vineyards\, 3857 Germantown Pike\, Collegeville\, PA\, 19426\, United States
CATEGORIES:Live Music
ORGANIZER;CN="Evansburg Vineyards":MAILTO:operations@evansburgvineyards.com
END:VEVENT
BEGIN:VEVENT
DTSTART;TZID=UTC:20260128T183000
DTEND;TZID=UTC:20260128T190000
DTSTAMP:20260420T120936
CREATED:20260121T063000Z
LAST-MODIFIED:20251229T183704Z
UID:994868-1769625000-1769626800@evansburgvineyards.com
SUMMARY:Free Wine Talks Series | Wednesday\, January 28th\, 6:30PM
DESCRIPTION:A new weekly series featuring a different wine and grape variety each week!\nFocus wine schedule:1/14: Dream (Chardonel)1/21: Nostalgia (Cabernet Franc)1/28: Spirited (Riesling)2/11: Serenade (Blend of Marquette/Sauvignon Blanc)\n\n\n\nEnjoy a free sample of each week’s focus wine while Winemaker\, Yuval and Sommelier + Cook\, Noah lead the room through a casual conversation about the grape varieties used for these wines and how they are made into wine. Discover their characteristic flavors and what food they pair with.\n\nYou’re welcome to stick around after and enjoy some dinner and of course\, more wine!
URL:https://evansburgvineyards.com/event/free-wine-talk-series/
LOCATION:Evansburg Vineyards\, 3857 Germantown Pike\, Collegeville\, PA\, 19426\, United States
CATEGORIES:Workshop
ORGANIZER;CN="Evansburg Vineyards":MAILTO:operations@evansburgvineyards.com
END:VEVENT
BEGIN:VEVENT
DTSTART;TZID=UTC:20260129T180000
DTEND;TZID=UTC:20260129T200000
DTSTAMP:20260420T120936
CREATED:20251228T003558Z
LAST-MODIFIED:20251228T003558Z
UID:994858-1769709600-1769716800@evansburgvineyards.com
SUMMARY:Workshop: Paint a Tote Bag & Sip | Thursday\, January 29th\, 6-8PM
DESCRIPTION:Join Vicky and Evansburg Vineyards for our first Paint a Tote Bag and Sip Workshop! Each participant will go home with their own creation and will receive a glass of wine with the ticket purchase. \nIn the workshop you will be provided all the tools you need to create your own masterpiece; Tote Bag\, brushes\, paint\, step by step instructions\, gloves\, one on one assistance\, a glass of wine and fun.  This workshop is about allowing yourself to be creative and of course\, have fun! \nWe recommend that you dress prepared for the workshop with either old clothes\, a smock or an apron as acrylic paint will stain clothing. \nABOUT YOUR WORKSHOP HOST: \nMy name is Vicky\, not Victoria. I say this only because\, throughout my life\, the first question I am asked upon meeting someone new is\, “is your real name Victoria?” I was born and raised in Pottstown. \nI am recently retired and have been pouring my time into the canvas. I am creative by nature and have dabbled in many forms of art. However\, over the last 7 years I have been teaching myself the ins and outs of acrylic painting.  I am a self-taught artist\, schooled by watching videos\, reading\, researching\, trial and error and lots and lots of practiced. I don’t have a specific focus on the canvas. I get excited trying new types of expressions and techniques. There is nothing better\, for an artist\, than having someone appreciate their creative expressions! \nI hold art workshops regularly for several local private clubs\, bar establishments\, wineries and private in-home parties all by word of mouth from happy participants. I post upcoming events of FB. You can friend me to see my events. I can be reached via email at vickyr11060@gmail.com or via phone at 484-325-1005 for private events such as birthday parties\, bridal showers\, retirement parties and the like. \nIf you have any trouble signing up for this event\, please send us an email at operations@evansburgvineyards.com. \n  \n\nBuy your tickets here! \n \nClick here to return to our events. \nClick here to go to our Store. \n 
URL:https://evansburgvineyards.com/event/paint-and-sip-tote-bag/
LOCATION:Evansburg Vineyards\, 3857 Germantown Pike\, Collegeville\, PA\, 19426\, United States
CATEGORIES:Workshop
ORGANIZER;CN="Evansburg Vineyards":MAILTO:operations@evansburgvineyards.com
END:VEVENT
END:VCALENDAR