BEGIN:VCALENDAR
VERSION:2.0
PRODID:-//Evansburg Vineyard - ECPv6.15.17.1//NONSGML v1.0//EN
CALSCALE:GREGORIAN
METHOD:PUBLISH
X-WR-CALNAME:Evansburg Vineyard
X-ORIGINAL-URL:https://evansburgvineyards.com
X-WR-CALDESC:Events for Evansburg Vineyard
REFRESH-INTERVAL;VALUE=DURATION:PT1H
X-Robots-Tag:noindex
X-PUBLISHED-TTL:PT1H
BEGIN:VTIMEZONE
TZID:UTC
BEGIN:STANDARD
TZOFFSETFROM:+0000
TZOFFSETTO:+0000
TZNAME:UTC
DTSTART:20240101T000000
END:STANDARD
END:VTIMEZONE
BEGIN:VEVENT
DTSTART;TZID=UTC:20251207T110000
DTEND;TZID=UTC:20251207T180000
DTSTAMP:20260420T094144
CREATED:20250923T205321Z
LAST-MODIFIED:20251121T213458Z
UID:994706-1765105200-1765130400@evansburgvineyards.com
SUMMARY:Wine Wonderland: 3rd Annual Winter Festival
DESCRIPTION:Step into the magic of our Wine Wonderland Winter Festival—now back for its third year! 🎄✨ Wander through twinkling lights in the vineyard\, sip on your favorite wines\, and explore unique creations by local artisan vendors. Join us for our enchanting Christmas tree lighting\, festive food specials\, and a holiday atmosphere you won’t forget. Celebrate the season with us! \nVendors:\nSimply DiWine Jellies | @simplydiwinejellies\nWine Jellies \nRay Ray Clay Co. | @rayrayclayco\nHandmade polymer clay earrings and accessories \nPudding Hill\nPurses\, bags\, zippered pouches made from recycled jeans and clothing\, knitted scarves\, cowls\,fingerless gloves and more! \nSchoolhouse Garden Art\nGarden art made from upcycled materials like plates\, bowl\, spoons\, and knobs. \nAllas Jewelry & Arts\nHandmade Jewelry and Arts \nCJ Crochet Creations\nCrochet stuffed toys and handmade earrings and necklaces. \nHappy Gals Candle Co. | @happy.gals.candle.co\nPremium soy wax candles using clean fragrance oils and eco friendly wicks. Almost too beautiful to burn & safe for all! \nBG Creative Labs | @BGCreativeLabs\nSewing\, embroidery\, vinyl\, sublimation. \nCrafty_ByMorgan | @Crafty_ByMorgan\nString Art\, Macrame & Fabric Wristlets & 3D Printed Desk Accessories \nElegant Wood Customs\nVarious wood crafts including cutting boards\, decoritive planter boxes and more. \nParty By Sunny | @Party_by_Sunny\nDecorated wine bottles and decorated shells. \nManic Pixies Lost Things | @manicpixies_lostthings\nOne of a kind 3d printed themed diorama houses and diy kits for kids. \nEarthly Jewels\nHandcrafted Jewelry \nJubilee Hattery | @jubileehattery\nUnique crochet hats – cat ear beanies with lots of fluff\, texture\, and fun color schemes. \nFurry Tales Rescue | @furry_tales_rescue \n\nMeet adoptable pups\, invite the Grinch to photobomb your pic\, grab treats\, enter a Yeti raffle\, and/or drop off dog food to support the rescue!\n\n\nLive Music with David Cunningham from 11am-2pm\, Matt Kresge from 3pm-6pm! \nVineyard Lighting at 4:30PM \n********FREE ENTRANCE******** \n\n\n\n\nClick here to return to our events. \nClick here to go to our Store.
URL:https://evansburgvineyards.com/event/wine-wonderland-winter-festival-2-2/
LOCATION:Evansburg Vineyards\, 3857 Germantown Pike\, Collegeville\, PA\, 19426\, United States
CATEGORIES:Winter Festival
ORGANIZER;CN="Evansburg Vineyards":MAILTO:operations@evansburgvineyards.com
END:VEVENT
BEGIN:VEVENT
DTSTART;TZID=UTC:20251211T180000
DTEND;TZID=UTC:20251211T200000
DTSTAMP:20260420T094144
CREATED:20251022T132926Z
LAST-MODIFIED:20251022T132926Z
UID:994754-1765476000-1765483200@evansburgvineyards.com
SUMMARY:Workshop: Fresh Winter Greens Holiday Gnome Workshop | Thursday\, December 11th\, 6-8PM
DESCRIPTION:Join Ambler Flower Shop and Evansburg Vineyards for a Fresh Winter Greens Holiday Gnome Workshop. Each participant receives a glass of wine with the purchase of a ticket. \nMake your very own winter holiday gnome with fresh greens! Ambler Flower Shop will teach you how to assemble your gnome and provide various accessories to bring you little buddy to life. \nAmbler Flower Shop is a full-service florist in the heart of Ambler. \nIf you have any trouble signing up for this event\, please send us an email at operations@evansburgvineyards.com \n\n\n\n  \n\nBuy your tickets here! \n \nClick here to return to our events. \nClick here to go to our Store. \n 
URL:https://evansburgvineyards.com/event/holiday-gnome-greens/
LOCATION:Evansburg Vineyards\, 3857 Germantown Pike\, Collegeville\, PA\, 19426\, United States
CATEGORIES:Workshop
ORGANIZER;CN="Evansburg Vineyards":MAILTO:operations@evansburgvineyards.com
END:VEVENT
BEGIN:VEVENT
DTSTART;TZID=UTC:20251218T180000
DTEND;TZID=UTC:20251218T200000
DTSTAMP:20260420T094144
CREATED:20251015T122034Z
LAST-MODIFIED:20251016T081936Z
UID:994729-1766080800-1766088000@evansburgvineyards.com
SUMMARY:Workshop: Holiday-Themed Cupcake Decorating | Thursday\, December 18th\, 6-8PM
DESCRIPTION:Join Marybeth Harmer for a Holiday-Themed cupcake decorating class!  Each participant also receives a glass of wine with their ticket. \nThe participants will get 6 cupcakes (3 chocolate and 3 vanilla) and will receive step by step directions on how to decorate their cupcakes. They will take home their decorated cupcakes on packaging and also get to enjoy some mini cupcakes at the event. \nNo baking experience needed! \nIf you have any trouble signing up for this event\, please send us an email at operations@evansburgvineyards.com. \nIf you would like to participate in this workshop and require a gluten free option\, please send us an email at operations@evansburgvineyards.com. \n\nBuy your tickets here! \n \nClick here to return to our events. \nClick here to go to our Store. \n 
URL:https://evansburgvineyards.com/event/holiday-cupcake-decorating/
LOCATION:Evansburg Vineyards\, 3857 Germantown Pike\, Collegeville\, PA\, 19426\, United States
CATEGORIES:Workshop
ORGANIZER;CN="Evansburg Vineyards":MAILTO:operations@evansburgvineyards.com
END:VEVENT
BEGIN:VEVENT
DTSTART;VALUE=DATE:20251224
DTEND;VALUE=DATE:20251226
DTSTAMP:20260420T094144
CREATED:20251021T111238Z
LAST-MODIFIED:20251021T112025Z
UID:994736-1766534400-1766707199@evansburgvineyards.com
SUMMARY:Closed for the Holiday! | December 24th & 25th
DESCRIPTION:We are closed for the holidays! See you soon!
URL:https://evansburgvineyards.com/event/closed-for-the-holiday-december-24th-25th/
LOCATION:PA
END:VEVENT
BEGIN:VEVENT
DTSTART;TZID=UTC:20251227T110000
DTEND;TZID=UTC:20251227T110000
DTSTAMP:20260420T094144
CREATED:20251021T122001Z
LAST-MODIFIED:20251021T122337Z
UID:994741-1766833200-1766833200@evansburgvineyards.com
SUMMARY:Winemaker's Tour
DESCRIPTION:Come and enjoy a one hour interactive tour led by the winemaker! On the tour you will learn about our vineyard\, our winemaking process\, and gain insight into lab analysis of wine during fermentation and maturation. Afterwards\, you will sit down and relax with a wine tasting that is included in your tour and a free souvenir to take home. \nTours are held every Saturday. Please contact us through our website if you are interested in scheduling a private tour. \nPlease arrive 5 minutes before the tour begins to check in and dress appropriately for the weather as a portion of the tour takes place outside. Tours begin promptly at 11am. We will create a reservation for your party at 12pm after the tour ends. \nTours are nonrefundable but can be rescheduled to a different date with 24 hour or more notice. \nPlease contact us through our website if you are interested in scheduling a private tour. \nBUY TICKETS HERE \n \nClick here to return to our events. \nClick here to go to our Store.
URL:https://evansburgvineyards.com/event/winemakers-tour-149-2-2-2-2-2-2-2-2-2-2-3-2-2-2-2-2-2-2/
LOCATION:Evansburg Vineyards\, 3857 Germantown Pike\, Collegeville\, PA\, 19426\, United States
ORGANIZER;CN="Evansburg Vineyards":MAILTO:operations@evansburgvineyards.com
END:VEVENT
BEGIN:VEVENT
DTSTART;VALUE=DATE:20251231
DTEND;VALUE=DATE:20260102
DTSTAMP:20260420T094144
CREATED:20251021T112155Z
LAST-MODIFIED:20251021T120054Z
UID:994737-1767139200-1767311999@evansburgvineyards.com
SUMMARY:Closed for New Years Eve & New Years Day | Dec. 31st & Jan. 1st
DESCRIPTION:We are closed for New Years! See you soon!
URL:https://evansburgvineyards.com/event/closed-for-new-years-eve-new-years-day-dec-31st-jan-1st/
LOCATION:PA
END:VEVENT
END:VCALENDAR