BEGIN:VCALENDAR
VERSION:2.0
PRODID:-//Evansburg Vineyard - ECPv6.15.17.1//NONSGML v1.0//EN
CALSCALE:GREGORIAN
METHOD:PUBLISH
X-ORIGINAL-URL:https://evansburgvineyards.com
X-WR-CALDESC:Events for Evansburg Vineyard
REFRESH-INTERVAL;VALUE=DURATION:PT1H
X-Robots-Tag:noindex
X-PUBLISHED-TTL:PT1H
BEGIN:VTIMEZONE
TZID:UTC
BEGIN:STANDARD
TZOFFSETFROM:+0000
TZOFFSETTO:+0000
TZNAME:UTC
DTSTART:20250101T000000
END:STANDARD
END:VTIMEZONE
BEGIN:VEVENT
DTSTART;TZID=UTC:20260219T180000
DTEND;TZID=UTC:20260219T200000
DTSTAMP:20260424T154455
CREATED:20260102T234323Z
LAST-MODIFIED:20260102T234443Z
UID:994879-1771524000-1771531200@evansburgvineyards.com
SUMMARY:Workshop: Make Your Own Greeting Cards! | Thursday\, February 19th 6-7:30PM
DESCRIPTION:Join Handmade By Suzette for an amazing Bridgerton-Themed Greeting Card Workshop! Each participant will make 4 original greeting cards and will receive a glass of wine with their ticket purchase. \nIn this instructor-led class\, Suzette guides participants on how to create greeting cards from scratch\, featuring all original designs. Attendees will learn how to assemble themed pieces that serve as beautiful expressions of thoughtfulness. \nEnjoy a fun night out and craft unique creations that will wow your family and friends! Beginners and experienced cardmakers welcome. All supplies provided. \nParticipants will go home with 4 original greeting cards. \nIf you have any trouble signing up for this event\, please send us an email at operations@evansburgvineyards.com. \nBuy your tickets here! \n \nClick here to return to our events. \nClick here to go to our Store. \n 
URL:https://evansburgvineyards.com/event/greeting-card-workshop-evansburgvineyards-2/
LOCATION:Evansburg Vineyards\, 3857 Germantown Pike\, Collegeville\, PA\, 19426\, United States
CATEGORIES:Workshop
ORGANIZER;CN="Evansburg Vineyards":MAILTO:operations@evansburgvineyards.com
END:VEVENT
END:VCALENDAR