BEGIN:VCALENDAR
VERSION:2.0
PRODID:-//Evansburg Vineyard - ECPv6.15.17.1//NONSGML v1.0//EN
CALSCALE:GREGORIAN
METHOD:PUBLISH
X-ORIGINAL-URL:https://evansburgvineyards.com
X-WR-CALDESC:Events for Evansburg Vineyard
REFRESH-INTERVAL;VALUE=DURATION:PT1H
X-Robots-Tag:noindex
X-PUBLISHED-TTL:PT1H
BEGIN:VTIMEZONE
TZID:UTC
BEGIN:STANDARD
TZOFFSETFROM:+0000
TZOFFSETTO:+0000
TZNAME:UTC
DTSTART:20250101T000000
END:STANDARD
END:VTIMEZONE
BEGIN:VEVENT
DTSTART;TZID=UTC:20260212T180000
DTEND;TZID=UTC:20260212T200000
DTSTAMP:20260421T041117
CREATED:20260102T233733Z
LAST-MODIFIED:20260102T233733Z
UID:994877-1770919200-1770926400@evansburgvineyards.com
SUMMARY:Workshop: Valentine's-Themed Cupcake Decorating | Thursday\, February 12th\, 6-8PM
DESCRIPTION:Join Marybeth Harmer for a Valentine’s Day-Themed cupcake decorating class!  Each participant also receives a glass of wine with their ticket. \nThe participants will get 6 cupcakes (3 chocolate and 3 vanilla) and will receive step by step directions on how to decorate their cupcakes. They will take home their decorated cupcakes on packaging and also get to enjoy some mini cupcakes at the event. \nNo baking experience needed! \nIf you have any trouble signing up for this event\, please send us an email at operations@evansburgvineyards.com. \nIf you would like to participate in this workshop and require a gluten free option\, please send us an email at operations@evansburgvineyards.com. \n\nBuy your tickets here! \n \nClick here to return to our events. \nClick here to go to our Store. \n 
URL:https://evansburgvineyards.com/event/holiday-cupcake-decorating-2/
LOCATION:Evansburg Vineyards\, 3857 Germantown Pike\, Collegeville\, PA\, 19426\, United States
CATEGORIES:Workshop
ORGANIZER;CN="Evansburg Vineyards":MAILTO:operations@evansburgvineyards.com
END:VEVENT
END:VCALENDAR