BEGIN:VCALENDAR
VERSION:2.0
PRODID:-//Evansburg Vineyard - ECPv6.15.17.1//NONSGML v1.0//EN
CALSCALE:GREGORIAN
METHOD:PUBLISH
X-ORIGINAL-URL:https://evansburgvineyards.com
X-WR-CALDESC:Events for Evansburg Vineyard
REFRESH-INTERVAL;VALUE=DURATION:PT1H
X-Robots-Tag:noindex
X-PUBLISHED-TTL:PT1H
BEGIN:VTIMEZONE
TZID:UTC
BEGIN:STANDARD
TZOFFSETFROM:+0000
TZOFFSETTO:+0000
TZNAME:UTC
DTSTART:20220101T000000
END:STANDARD
END:VTIMEZONE
BEGIN:VEVENT
DTSTART;TZID=UTC:20230716T110000
DTEND;TZID=UTC:20230716T120000
DTSTAMP:20260424T111531
CREATED:20230704T122939Z
LAST-MODIFIED:20230704T122939Z
UID:992123-1689505200-1689508800@evansburgvineyards.com
SUMMARY:Sound Bath Meditation | @jenwhoplaysthegong
DESCRIPTION:This workshop includes a complimentary glass of wine after the sound bath meditation. \nWhat is SOUND BATH? \nA deep dose of rest\, relaxation and reflection through sound and vibrational immersion with gong\, handpan\, singing bowls\, chimes\, drums and more! You will lie or sit comfortably for this hour of peaceful being. Deeply listening to intentional sound and vibration effortlessly relieves stress\, calms the mind\, improves sleep and overall focus plus so much more. \nBRING YOUR OWN yoga mat\, comforts (pillows\, blankets\, bolsters\, eye pillow) and perhaps a journal to reflect after the sound immersion. \nAbout your teacher: \nJen has delved into both the medical and holistic healing arts over the past decade. \nBeing a former nurse\, Jen’s sound immersion offerings are uniquely catered to the energy of the room or individual as learned from the bedside. Every encounter is intended for the recipient to feel safe\, warm and comfortable so they are able to release and deepen into their journey. \nPlease arrive 10min early so we we can start the meditation right on time! \nCLICK HERE TO BUY TICKETS!
URL:https://evansburgvineyards.com/event/sound-bath-meditation-jenwhoplaysthegong/
LOCATION:Evansburg Vineyards\, 3857 Germantown Pike\, Collegeville\, PA\, 19426\, United States
CATEGORIES:Workshop
END:VEVENT
END:VCALENDAR