BEGIN:VCALENDAR
VERSION:2.0
PRODID:-//Evansburg Vineyard - ECPv6.15.17.1//NONSGML v1.0//EN
CALSCALE:GREGORIAN
METHOD:PUBLISH
X-WR-CALNAME:Evansburg Vineyard
X-ORIGINAL-URL:https://evansburgvineyards.com
X-WR-CALDESC:Events for Evansburg Vineyard
REFRESH-INTERVAL;VALUE=DURATION:PT1H
X-Robots-Tag:noindex
X-PUBLISHED-TTL:PT1H
BEGIN:VTIMEZONE
TZID:UTC
BEGIN:STANDARD
TZOFFSETFROM:+0000
TZOFFSETTO:+0000
TZNAME:UTC
DTSTART:20210101T000000
END:STANDARD
END:VTIMEZONE
BEGIN:VEVENT
DTSTART;TZID=UTC:20221013T180000
DTEND;TZID=UTC:20221013T200000
DTSTAMP:20260426T002608
CREATED:20220922T153003Z
LAST-MODIFIED:20220922T153131Z
UID:991094-1665684000-1665691200@evansburgvineyards.com
SUMMARY:Workshop: Design Your Own Jewelry
DESCRIPTION:Diffuser Lava Bead Bracelets: \nDesign and make two stretchy bracelets out of a sorbet selection of diffuser lava beads\, real semi-precious stones\, and accent beads. Be enlightened by learning about the healing properties of semi-precious stones. Watch as we demonstrate the secret to tying a secure knot using elastic. Once done\, dab a few drops of your favorite essential oils onto your lava bead bracelets for a calming effect. \n\n\nCost for workshop & all materials including a glass of wine is $45. \nBuy your tickets here! \n \n 
URL:https://evansburgvineyards.com/event/art-vino-alcohol-ink-workshop-4/
LOCATION:Evansburg Vineyards\, 3857 Germantown Pike\, Collegeville\, PA\, 19426\, United States
CATEGORIES:Workshop
END:VEVENT
BEGIN:VEVENT
DTSTART;TZID=UTC:20221020T180000
DTEND;TZID=UTC:20221020T200000
DTSTAMP:20260426T002608
CREATED:20220922T150832Z
LAST-MODIFIED:20220922T150832Z
UID:991091-1666288800-1666296000@evansburgvineyards.com
SUMMARY:Art & Vino: Alcohol Ink Workshop
DESCRIPTION:Join us for a creative workshop learning about and experimenting with alcohol inks! \nThis is an exciting\, vibrant and fluid medium that allows anyone to be an artist. Our instructor will provide an overview on how to use inks\, some demonstrations\, lots of hands on help and will have some of her artwork on display for inspiration and purchase. Enjoy a glass of wine while creating your very own alcohol inks piece of art on a small picture frame and a switch plate to take home. Our instructor\, Lori has a penchant for florals but alcohol inks are wonderful for abstracts\, too. \n\n\nCost for workshop & all materials including a glass of wine is $50. \nBuy your tickets here! \n \n 
URL:https://evansburgvineyards.com/event/art-vino-alcohol-ink-workshop-3/
LOCATION:Evansburg Vineyards\, 3857 Germantown Pike\, Collegeville\, PA\, 19426\, United States
CATEGORIES:Workshop
END:VEVENT
BEGIN:VEVENT
DTSTART;TZID=UTC:20221027T180000
DTEND;TZID=UTC:20221027T200000
DTSTAMP:20260426T002608
CREATED:20220930T164538Z
LAST-MODIFIED:20220930T164538Z
UID:991140-1666893600-1666900800@evansburgvineyards.com
SUMMARY:Cupcake Decorating: Class with Marybeth Harmer
DESCRIPTION:Join Marybeth Harmer for an amazing cupcake decorating class! \nThe participants will get 6 cupcakes (3 chocolate and 3 vanilla) and will receive step by step directions on how to decorate their cupcakes. They will take home their decorated cupcakes on packaging and also get to enjoy some complimentary mini cupcakes at the event. \nNo baking experience needed! \n\nBuy your tickets here! \n \n 
URL:https://evansburgvineyards.com/event/cupcake-decorating-class/
LOCATION:Evansburg Vineyards\, 3857 Germantown Pike\, Collegeville\, PA\, 19426\, United States
CATEGORIES:Workshop
ORGANIZER;CN="Evansburg Vineyards":MAILTO:operations@evansburgvineyards.com
END:VEVENT
END:VCALENDAR