BEGIN:VCALENDAR
VERSION:2.0
PRODID:-//Evansburg Vineyard - ECPv6.15.17.1//NONSGML v1.0//EN
CALSCALE:GREGORIAN
METHOD:PUBLISH
X-ORIGINAL-URL:https://evansburgvineyards.com
X-WR-CALDESC:Events for Evansburg Vineyard
REFRESH-INTERVAL;VALUE=DURATION:PT1H
X-Robots-Tag:noindex
X-PUBLISHED-TTL:PT1H
BEGIN:VTIMEZONE
TZID:UTC
BEGIN:STANDARD
TZOFFSETFROM:+0000
TZOFFSETTO:+0000
TZNAME:UTC
DTSTART:20220101T000000
END:STANDARD
END:VTIMEZONE
BEGIN:VEVENT
DTSTART;TZID=UTC:20231101T193000
DTEND;TZID=UTC:20231101T193000
DTSTAMP:20260422T212434
CREATED:20231020T221311Z
LAST-MODIFIED:20231020T221311Z
UID:992449-1698867000-1698867000@evansburgvineyards.com
SUMMARY:Comedy & Magic | Ari Paul
DESCRIPTION:Prepare to be amazed and entertained at Evansburg Vineyards! ?✨ Join us for an unforgettable night of laughter and wonder as Magician and Comedian Ari Paul takes the stage. Be part of the magic and comedy\, with interactive tricks that will leave you in stitches and awe. Walk-ins are welcome\, but secure your spot for a night of enchantment and enjoy the show with a glass of our finest wine! ?✨ Doors open at 7 PM. See you there! #MagicAndLaughs #EvansburgEnchantment \nwww.aripaulentertainment.com \n  \nWHERE THE MAGIC BEGAN \nAri Paul Felber was born and raised in West Philadelphia (Yes\, like The Fresh Prince of Bell Aire). Ari was always the funny guy and ham in school. Ari visited his father in Arizona when he was 10 and his father took him to Las Vegas\, NV and that is where Ari was introduced to magic. While scoping out shops in Vegas\, Ari’s father found a magic shop and knew he had to take Ari to it. Ari was blown away and had to know how to do this. Ari’s father bought him a bunch of magic tricks and the love affair begun. \nAfter practicing for about 4 months\, Ari lost his magic love for years and years\, until college. Before Ari moved off to college he found the bag of tricks (pun intended) his dad bought him all those years prior and the love affair was renewed. \nAri practiced and started doing magic for anyone and everyone he could at school and got better and better at this art. Fast forward to present day and Ari Paul Felber has been performing as a professional and full time entertainer for 6 years! Ari’s shows are fun\, interactive and full of “how did he do that?!” moments. \nAri has performed on numerous TV shows and for corporate\, school\, and private clients all over\, not to mention for Hollywood stars and professional athletes. Ari loves what he does and wants to share the fun with you! \nBUY TICKETS HERE
URL:https://evansburgvineyards.com/event/comedy-magic-ari-paul-4/
LOCATION:Evansburg Vineyards\, 3857 Germantown Pike\, Collegeville\, PA\, 19426\, United States
CATEGORIES:Stand Up Comedy
ORGANIZER;CN="Evansburg Vineyards":MAILTO:operations@evansburgvineyards.com
END:VEVENT
BEGIN:VEVENT
DTSTART;TZID=UTC:20230823T193000
DTEND;TZID=UTC:20230823T193000
DTSTAMP:20260422T212434
CREATED:20230719T220513Z
LAST-MODIFIED:20230719T220513Z
UID:992156-1692819000-1692819000@evansburgvineyards.com
SUMMARY:Comedy & Magic | Ari Paul
DESCRIPTION:Do you want to have fun\, smile\, laugh and be amazed?! That is what Ari makes you do! \nAri Paul is a full time interactive comic magician and mentalist whom blends comedy and improv into each show making for a great and Fun time! Ari is an entertainer that has been featured on Fox news\, ABC\, NBC and been hired by and performed for companies such as Comcast\, QVC\, The Philadelphia Phillies and numerous major Hotels. \nwww.aripaulentertainment.com \n  \nWHERE THE MAGIC BEGAN \nAri Paul Felber was born and raised in West Philadelphia (Yes\, like The Fresh Prince of Bell Aire). Ari was always the funny guy and ham in school. Ari visited his father in Arizona when he was 10 and his father took him to Las Vegas\, NV and that is where Ari was introduced to magic. While scoping out shops in Vegas\, Ari’s father found a magic shop and knew he had to take Ari to it. Ari was blown away and had to know how to do this. Ari’s father bought him a bunch of magic tricks and the love affair begun. \nAfter practicing for about 4 months\, Ari lost his magic love for years and years\, until college. Before Ari moved off to college he found the bag of tricks (pun intended) his dad bought him all those years prior and the love affair was renewed. \nAri practiced and started doing magic for anyone and everyone he could at school and got better and better at this art. Fast forward to present day and Ari Paul Felber has been performing as a professional and full time entertainer for 6 years! Ari’s shows are fun\, interactive and full of “how did he do that?!” moments. \nAri has performed on numerous TV shows and for corporate\, school\, and private clients all over\, not to mention for Hollywood stars and professional athletes. Ari loves what he does and wants to share the fun with you! \nBUY TICKETS HERE
URL:https://evansburgvineyards.com/event/comedy-magic-ari-paul-3/
LOCATION:Evansburg Vineyards\, 3857 Germantown Pike\, Collegeville\, PA\, 19426\, United States
CATEGORIES:Stand Up Comedy
ORGANIZER;CN="Evansburg Vineyards":MAILTO:operations@evansburgvineyards.com
END:VEVENT
BEGIN:VEVENT
DTSTART;TZID=UTC:20230713T193000
DTEND;TZID=UTC:20230713T193000
DTSTAMP:20260422T212434
CREATED:20230518T000024Z
LAST-MODIFIED:20230518T000024Z
UID:991886-1689276600-1689276600@evansburgvineyards.com
SUMMARY:Comedy & Magic | Ari Paul
DESCRIPTION:Do you want to have fun\, smile\, laugh and be amazed?! That is what Ari makes you do! \nAri Paul is a full time interactive comic magician and mentalist whom blends comedy and improv into each show making for a great and Fun time! Ari is an entertainer that has been featured on Fox news\, ABC\, NBC and been hired by and performed for companies such as Comcast\, QVC\, The Philadelphia Phillies and numerous major Hotels. \nwww.aripaulentertainment.com \n  \nWHERE THE MAGIC BEGAN \nAri Paul Felber was born and raised in West Philadelphia (Yes\, like The Fresh Prince of Bell Aire). Ari was always the funny guy and ham in school. Ari visited his father in Arizona when he was 10 and his father took him to Las Vegas\, NV and that is where Ari was introduced to magic. While scoping out shops in Vegas\, Ari’s father found a magic shop and knew he had to take Ari to it. Ari was blown away and had to know how to do this. Ari’s father bought him a bunch of magic tricks and the love affair begun. \nAfter practicing for about 4 months\, Ari lost his magic love for years and years\, until college. Before Ari moved off to college he found the bag of tricks (pun intended) his dad bought him all those years prior and the love affair was renewed. \nAri practiced and started doing magic for anyone and everyone he could at school and got better and better at this art. Fast forward to present day and Ari Paul Felber has been performing as a professional and full time entertainer for 6 years! Ari’s shows are fun\, interactive and full of “how did he do that?!” moments. \nAri has performed on numerous TV shows and for corporate\, school\, and private clients all over\, not to mention for Hollywood stars and professional athletes. Ari loves what he does and wants to share the fun with you! \nBUY TICKETS HERE
URL:https://evansburgvineyards.com/event/comedy-magic-ari-paul-2/
LOCATION:Evansburg Vineyards\, 3857 Germantown Pike\, Collegeville\, PA\, 19426\, United States
CATEGORIES:Stand Up Comedy
END:VEVENT
BEGIN:VEVENT
DTSTART;TZID=UTC:20230511T190000
DTEND;TZID=UTC:20230511T200000
DTSTAMP:20260422T212434
CREATED:20230503T224931Z
LAST-MODIFIED:20230503T225337Z
UID:991856-1683831600-1683835200@evansburgvineyards.com
SUMMARY:Comedy & Magic | Ari Paul
DESCRIPTION:Do you want to have fun\, smile\, laugh and be amazed?! That is what Ari makes you do! \nAri Paul is a full time interactive comic magician and mentalist whom blends comedy and improv into each show making for a great and Fun time! Ari is an entertainer that has been featured on Fox news\, ABC\, NBC and been hired by and performed for companies such as Comcast\, QVC\, The Philadelphia Phillies and numerous major Hotels. \nwww.aripaulentertainment.com \n  \nWHERE THE MAGIC BEGAN \nAri Paul Felber was born and raised in West Philadelphia (Yes\, like The Fresh Prince of Bell Aire). Ari was always the funny guy and ham in school. Ari visited his father in Arizona when he was 10 and his father took him to Las Vegas\, NV and that is where Ari was introduced to magic. While scoping out shops in Vegas\, Ari’s father found a magic shop and knew he had to take Ari to it. Ari was blown away and had to know how to do this. Ari’s father bought him a bunch of magic tricks and the love affair begun. \nAfter practicing for about 4 months\, Ari lost his magic love for years and years\, until college. Before Ari moved off to college he found the bag of tricks (pun intended) his dad bought him all those years prior and the love affair was renewed. \nAri practiced and started doing magic for anyone and everyone he could at school and got better and better at this art. Fast forward to present day and Ari Paul Felber has been performing as a professional and full time entertainer for 6 years! Ari’s shows are fun\, interactive and full of “how did he do that?!” moments. \nAri has performed on numerous TV shows and for corporate\, school\, and private clients all over\, not to mention for Hollywood stars and professional athletes. Ari loves what he does and wants to share the fun with you! \nBUY TICKETS HERE
URL:https://evansburgvineyards.com/event/comedy-magic-ari-paul/
LOCATION:Evansburg Vineyards\, 3857 Germantown Pike\, Collegeville\, PA\, 19426\, United States
CATEGORIES:Stand Up Comedy
END:VEVENT
END:VCALENDAR