BEGIN:VCALENDAR
VERSION:2.0
PRODID:-//Evansburg Vineyard - ECPv6.15.17.1//NONSGML v1.0//EN
CALSCALE:GREGORIAN
METHOD:PUBLISH
X-ORIGINAL-URL:https://evansburgvineyards.com
X-WR-CALDESC:Events for Evansburg Vineyard
REFRESH-INTERVAL;VALUE=DURATION:PT1H
X-Robots-Tag:noindex
X-PUBLISHED-TTL:PT1H
BEGIN:VTIMEZONE
TZID:UTC
BEGIN:STANDARD
TZOFFSETFROM:+0000
TZOFFSETTO:+0000
TZNAME:UTC
DTSTART:20240101T000000
END:STANDARD
END:VTIMEZONE
BEGIN:VEVENT
DTSTART;TZID=UTC:20251004T140000
DTEND;TZID=UTC:20251004T170000
DTSTAMP:20260420T234806
CREATED:20250530T160820Z
LAST-MODIFIED:20250530T160820Z
UID:994508-1759586400-1759597200@evansburgvineyards.com
SUMMARY:Live Music: Smooth Retsina Glow
DESCRIPTION:Live Music: Smooth Retsina Glow \nFormed in 2019\, Smooth Retsina Glow is the Lehigh Valleys best kept secret\, with their infectious brand of indie rock captivating audiences locally and even on foreign shores. Equally capable of electric or acoustic performances\, they have to be seen to be believed and are renowned for their ability to adjust to the room or venue depending on what is preferred. Always expected the unexpected- and the highest quality. \n \nClick here to return to our events. \nClick here to go to our Store.
URL:https://evansburgvineyards.com/event/live-music-smooth-retsina-glow-3/
LOCATION:Evansburg Vineyards\, 3857 Germantown Pike\, Collegeville\, PA\, 19426\, United States
CATEGORIES:Live Music
ORGANIZER;CN="Evansburg Vineyards":MAILTO:operations@evansburgvineyards.com
END:VEVENT
END:VCALENDAR