BEGIN:VCALENDAR
VERSION:2.0
PRODID:-//Evansburg Vineyard - ECPv6.15.17.1//NONSGML v1.0//EN
CALSCALE:GREGORIAN
METHOD:PUBLISH
X-WR-CALNAME:Evansburg Vineyard
X-ORIGINAL-URL:https://evansburgvineyards.com
X-WR-CALDESC:Events for Evansburg Vineyard
REFRESH-INTERVAL;VALUE=DURATION:PT1H
X-Robots-Tag:noindex
X-PUBLISHED-TTL:PT1H
BEGIN:VTIMEZONE
TZID:UTC
BEGIN:STANDARD
TZOFFSETFROM:+0000
TZOFFSETTO:+0000
TZNAME:UTC
DTSTART:20240101T000000
END:STANDARD
END:VTIMEZONE
BEGIN:VEVENT
DTSTART;TZID=UTC:20250727T140000
DTEND;TZID=UTC:20250727T170000
DTSTAMP:20260419T210822
CREATED:20250505T185532Z
LAST-MODIFIED:20250505T185532Z
UID:994431-1753624800-1753635600@evansburgvineyards.com
SUMMARY:Live Music: Gene Cullison
DESCRIPTION:Live Music: Gene Cullison \nGene Cullison is a graduate of West Chester University in Music Education. When he’s not teaching music\, he enjoys singing and playing. His library includes folk rock\, country\, pop\, and rock. Gene specializes playing supersets from singer songwriters of the 60s-70s. His favorite artist is James Taylor. \n \n  \nClick here to return to our events. \nClick here to go to our Store.
URL:https://evansburgvineyards.com/event/live-music-gene-cullison-2/
LOCATION:Evansburg Vineyards\, 3857 Germantown Pike\, Collegeville\, PA\, 19426\, United States
CATEGORIES:Live Music
ORGANIZER;CN="Evansburg Vineyards":MAILTO:operations@evansburgvineyards.com
END:VEVENT
END:VCALENDAR