BEGIN:VCALENDAR
VERSION:2.0
PRODID:-//Evansburg Vineyard - ECPv6.15.17.1//NONSGML v1.0//EN
CALSCALE:GREGORIAN
METHOD:PUBLISH
X-WR-CALNAME:Evansburg Vineyard
X-ORIGINAL-URL:https://evansburgvineyards.com
X-WR-CALDESC:Events for Evansburg Vineyard
REFRESH-INTERVAL;VALUE=DURATION:PT1H
X-Robots-Tag:noindex
X-PUBLISHED-TTL:PT1H
BEGIN:VTIMEZONE
TZID:UTC
BEGIN:STANDARD
TZOFFSETFROM:+0000
TZOFFSETTO:+0000
TZNAME:UTC
DTSTART:20250101T000000
END:STANDARD
END:VTIMEZONE
BEGIN:VEVENT
DTSTART;TZID=UTC:20260621T140000
DTEND;TZID=UTC:20260621T170000
DTSTAMP:20260422T071859
CREATED:20260414T195515Z
LAST-MODIFIED:20260414T195515Z
UID:995080-1782050400-1782061200@evansburgvineyards.com
SUMMARY:Live Music: 73 West
DESCRIPTION:Live Music: The Sky in Bloom \nSam and Kyle are Pennsylvania-based musicians who specialize in turning crowd favorite pop and rock songs into an intimate and dynamic musical experience. \n \nClick here to return to our events. \nClick here to go to our Store.
URL:https://evansburgvineyards.com/event/live-music-theskyinbloom/
LOCATION:Evansburg Vineyards\, 3857 Germantown Pike\, Collegeville\, PA\, 19426\, United States
CATEGORIES:Live Music
ORGANIZER;CN="Evansburg Vineyards":MAILTO:operations@evansburgvineyards.com
END:VEVENT
END:VCALENDAR