BEGIN:VCALENDAR
VERSION:2.0
PRODID:-//Evansburg Vineyard - ECPv6.15.17.1//NONSGML v1.0//EN
CALSCALE:GREGORIAN
METHOD:PUBLISH
X-WR-CALNAME:Evansburg Vineyard
X-ORIGINAL-URL:https://evansburgvineyards.com
X-WR-CALDESC:Events for Evansburg Vineyard
REFRESH-INTERVAL;VALUE=DURATION:PT1H
X-Robots-Tag:noindex
X-PUBLISHED-TTL:PT1H
BEGIN:VTIMEZONE
TZID:UTC
BEGIN:STANDARD
TZOFFSETFROM:+0000
TZOFFSETTO:+0000
TZNAME:UTC
DTSTART:20250101T000000
END:STANDARD
END:VTIMEZONE
BEGIN:VEVENT
DTSTART;TZID=UTC:20260507T180000
DTEND;TZID=UTC:20260507T200000
DTSTAMP:20260422T022828
CREATED:20260401T201806Z
LAST-MODIFIED:20260401T201806Z
UID:995043-1778176800-1778184000@evansburgvineyards.com
SUMMARY:Sip & Succulent | Wine Bottle Centerpiece Workshop | May 7th\, 2026\,6-8PM
DESCRIPTION:Sip & Succulent | Wine Bottle Centerpiece Workshop \nJoin Paige Smith and learn how to make a stunning Succulent Wine Bottle centerpiece for spring!  Each participant also receives a glass of wine with ticket purchase. \nCome make a custom wine succulent terrarium. You can have your choice of an assortment succulents to choose from. Your hands will get dirty so bring gloves!  \nParticipants will receive: \nCut Wine bottle/ with stand and cork  \nMix of 5 succulents  \nCompost mixture  \nRocks  \nAbout your instructor: \nHello my name is Paige Smith\, a wife and proud mom of two incredible kids! I’m a local florist and owner of A Jewel Bee. I source only the finest local and homegrown products and materials. We offer services for weddings\, events\, and workshops. \nIf you have any trouble signing up for this event\, please send us an email at operations@evansburgvineyards.com \nBUY TICKETS HERE \n \nClick here to return to our events. \nClick here to go to our Store.
URL:https://evansburgvineyards.com/event/sip-succulent-wine-bottle-centerpiece-workshop/
LOCATION:Evansburg Vineyards\, 3857 Germantown Pike\, Collegeville\, PA\, 19426\, United States
CATEGORIES:Workshop
ORGANIZER;CN="Evansburg Vineyards":MAILTO:operations@evansburgvineyards.com
END:VEVENT
END:VCALENDAR