BEGIN:VCALENDAR
VERSION:2.0
PRODID:-//Evansburg Vineyard - ECPv6.15.17.1//NONSGML v1.0//EN
CALSCALE:GREGORIAN
METHOD:PUBLISH
X-ORIGINAL-URL:https://evansburgvineyards.com
X-WR-CALDESC:Events for Evansburg Vineyard
REFRESH-INTERVAL;VALUE=DURATION:PT1H
X-Robots-Tag:noindex
X-PUBLISHED-TTL:PT1H
BEGIN:VTIMEZONE
TZID:UTC
BEGIN:STANDARD
TZOFFSETFROM:+0000
TZOFFSETTO:+0000
TZNAME:UTC
DTSTART:20250101T000000
END:STANDARD
END:VTIMEZONE
BEGIN:VEVENT
DTSTART;TZID=UTC:20260207T160000
DTEND;TZID=UTC:20260207T190000
DTSTAMP:20260421T160417
CREATED:20260128T171529Z
LAST-MODIFIED:20260128T171529Z
UID:994915-1770480000-1770490800@evansburgvineyards.com
SUMMARY:Indoor Live Music: Melissa Ann Music
DESCRIPTION:Live Music: \n\n\n\nMelissa Ann Music\n\n\n\n\n\n\n\n\n\n\n\n\n\n\n\n\n\n\n\n\n\nMy name is Melissa Ann\, a country singer/songwriter born and raised in the heart of Southern New Jersey. With a deep passion for country music\, I have dedicated myself to honing my craft and creating a sound that is uniquely my own\, while also paying homage to the country legends who have paved the way. I infuse my music with an authentic twist\, blending traditional country elements with modern influences. I began performing in 2017 and have had the opportunity to perform in many locations such as NJ\, TN\, DE\, MD\, NY and PA including\, but not limited to wineries\, restaurants\, and more. As my journey in the music industry continues to unfold\, I am committed to pushing boundaries\, experimenting with new sounds\, and constantly evolving as an artist. With each performance\, I strive to leave a mark on the hearts of my listeners\, hoping they join me on the next chapter of this exhilarating musical adventure.\n\n\n\n\n\n\n\n\n\n\n\n\n\n\n\n\n\n\n\n \n  \nClick here to return to our events. \nClick here to go to our Store.
URL:https://evansburgvineyards.com/event/live-music-melissa-ann-music-2/
LOCATION:Evansburg Vineyards\, 3857 Germantown Pike\, Collegeville\, PA\, 19426\, United States
CATEGORIES:Live Music
ORGANIZER;CN="Evansburg Vineyards":MAILTO:operations@evansburgvineyards.com
END:VEVENT
END:VCALENDAR