BEGIN:VCALENDAR
VERSION:2.0
PRODID:-//Evansburg Vineyard - ECPv6.15.17.1//NONSGML v1.0//EN
CALSCALE:GREGORIAN
METHOD:PUBLISH
X-ORIGINAL-URL:https://evansburgvineyards.com
X-WR-CALDESC:Events for Evansburg Vineyard
REFRESH-INTERVAL;VALUE=DURATION:PT1H
X-Robots-Tag:noindex
X-PUBLISHED-TTL:PT1H
BEGIN:VTIMEZONE
TZID:UTC
BEGIN:STANDARD
TZOFFSETFROM:+0000
TZOFFSETTO:+0000
TZNAME:UTC
DTSTART:20240101T000000
END:STANDARD
END:VTIMEZONE
BEGIN:VEVENT
DTSTART;TZID=UTC:20251102T120000
DTEND;TZID=UTC:20251102T160000
DTSTAMP:20260424T122529
CREATED:20251020T165246Z
LAST-MODIFIED:20251020T165246Z
UID:994732-1762084800-1762099200@evansburgvineyards.com
SUMMARY:East Whiteland Community Day
DESCRIPTION:We will be a vendor at the East Whiteland Community Day for the first time! Come find us!
URL:https://evansburgvineyards.com/event/east-whiteland-community-day/
LOCATION:East Whiteland\, 55 Valley Stream Pkwy\, Malvern\, PA\, 1935\, United States
END:VEVENT
BEGIN:VEVENT
DTSTART;TZID=UTC:20251102T140000
DTEND;TZID=UTC:20251102T170000
DTSTAMP:20260424T122529
CREATED:20250530T170506Z
LAST-MODIFIED:20250530T170506Z
UID:994525-1762092000-1762102800@evansburgvineyards.com
SUMMARY:Live Music: Acoustic Ferrari
DESCRIPTION:Live Music: Acoustic Ferrari \nAcoustic Ferrari is Suburban Philadelphia based Vocalist/Guitarist who has played everywhere from Pottstown to Atlantic City\, Doylestown to Wilmington and all across the Greater Philadelphia Region. Known for his long sets\, dynamic vocals and passionate performances\, Acoustic Ferrari brings you his interpretations of the best music of the past eight decades. \n \nClick here to return to our events. \nClick here to go to our Store.
URL:https://evansburgvineyards.com/event/live-music-acoustic-ferrari-13/
LOCATION:Evansburg Vineyards\, 3857 Germantown Pike\, Collegeville\, PA\, 19426\, United States
CATEGORIES:Live Music
ORGANIZER;CN="Evansburg Vineyards":MAILTO:operations@evansburgvineyards.com
END:VEVENT
END:VCALENDAR