BEGIN:VCALENDAR
VERSION:2.0
PRODID:-//Evansburg Vineyard - ECPv6.15.17.1//NONSGML v1.0//EN
CALSCALE:GREGORIAN
METHOD:PUBLISH
X-WR-CALNAME:Evansburg Vineyard
X-ORIGINAL-URL:https://evansburgvineyards.com
X-WR-CALDESC:Events for Evansburg Vineyard
REFRESH-INTERVAL;VALUE=DURATION:PT1H
X-Robots-Tag:noindex
X-PUBLISHED-TTL:PT1H
BEGIN:VTIMEZONE
TZID:UTC
BEGIN:STANDARD
TZOFFSETFROM:+0000
TZOFFSETTO:+0000
TZNAME:UTC
DTSTART:20240101T000000
END:STANDARD
END:VTIMEZONE
BEGIN:VEVENT
DTSTART;TZID=UTC:20251031T160000
DTEND;TZID=UTC:20251031T190000
DTSTAMP:20260424T122221
CREATED:20250530T170254Z
LAST-MODIFIED:20250530T170254Z
UID:994523-1761926400-1761937200@evansburgvineyards.com
SUMMARY:Live Music: Ayva Behm
DESCRIPTION:Live Music: Ayva Behm \nAyva is a singer/songwriter from Southeast Pennsylvania with a niche for fingerstyle guitar and heartfelt piano. Her sound is reminiscent of Joni Mitchell and Jewel\, with sweet and soothing melodies for the soul. Come out for a blend of nostalgic covers and debut songs written from the heart. \n \nClick here to return to our events. \nClick here to go to our Store.
URL:https://evansburgvineyards.com/event/live-music-ayva-behm-6/
LOCATION:Evansburg Vineyards\, 3857 Germantown Pike\, Collegeville\, PA\, 19426\, United States
CATEGORIES:Live Music
ORGANIZER;CN="Evansburg Vineyards":MAILTO:operations@evansburgvineyards.com
END:VEVENT
END:VCALENDAR