BEGIN:VCALENDAR
VERSION:2.0
PRODID:-//Evansburg Vineyard - ECPv6.15.17.1//NONSGML v1.0//EN
CALSCALE:GREGORIAN
METHOD:PUBLISH
X-ORIGINAL-URL:https://evansburgvineyards.com
X-WR-CALDESC:Events for Evansburg Vineyard
REFRESH-INTERVAL;VALUE=DURATION:PT1H
X-Robots-Tag:noindex
X-PUBLISHED-TTL:PT1H
BEGIN:VTIMEZONE
TZID:UTC
BEGIN:STANDARD
TZOFFSETFROM:+0000
TZOFFSETTO:+0000
TZNAME:UTC
DTSTART:20230101T000000
END:STANDARD
END:VTIMEZONE
BEGIN:VEVENT
DTSTART;TZID=UTC:20241013T110000
DTEND;TZID=UTC:20241013T110000
DTSTAMP:20260424T161855
CREATED:20240611T193047Z
LAST-MODIFIED:20240611T193104Z
UID:993338-1728817200-1728817200@evansburgvineyards.com
SUMMARY:Sweat & Sip | @areteathelicsofficial
DESCRIPTION:Sweat & Sip includes a complimentary glass of wine after the class. \nJoin us for an unforgettable experience at Evansburg Vineyards! \nEvansburg Vineyards is teaming up with Arete Athletics to bring you a unique fitness event that combines the beauty of the vineyard with an invigorating workout followed by a well-deserved glass of wine. \nThis one-hour workout\, suitable for all fitness levels\, will be led by Arete Athletic’s experienced trainers and will incorporate bodyweight exercises set amidst the stunning vineyard backdrop. After the workout\, relax and socialize with fellow participants as you enjoy a complimentary glass of Evansburg Vinyards’ finest wine. \nSpaces are limited\, so reserve your spot today! Don’t miss this opportunity to combine fitness\, fun\, and the beauty of nature at Vineyard Verve. \nCheers to health and happiness! \nPlease arrive 10min early so we can start the class right on time! \nThese classes take place rain or shine! If you cannot make it for any reason\, please send us an email at operations@evansburgvineyards.com to get a class credit for another date. \n  \nCLICK HERE TO BUY TICKETS! \n \nClick here to return to our events. \nClick here to go to our Store.
URL:https://evansburgvineyards.com/event/sweat-sip-areteathelicsofficial-6/
LOCATION:Evansburg Vineyards\, 3857 Germantown Pike\, Collegeville\, PA\, 19426\, United States
CATEGORIES:Workout
END:VEVENT
END:VCALENDAR