BEGIN:VCALENDAR
VERSION:2.0
PRODID:-//Evansburg Vineyard - ECPv6.15.17.1//NONSGML v1.0//EN
CALSCALE:GREGORIAN
METHOD:PUBLISH
X-ORIGINAL-URL:https://evansburgvineyards.com
X-WR-CALDESC:Events for Evansburg Vineyard
REFRESH-INTERVAL;VALUE=DURATION:PT1H
X-Robots-Tag:noindex
X-PUBLISHED-TTL:PT1H
BEGIN:VTIMEZONE
TZID:UTC
BEGIN:STANDARD
TZOFFSETFROM:+0000
TZOFFSETTO:+0000
TZNAME:UTC
DTSTART:20230101T000000
END:STANDARD
END:VTIMEZONE
BEGIN:VEVENT
DTSTART;TZID=UTC:20240823T170000
DTEND;TZID=UTC:20240823T200000
DTSTAMP:20260425T111705
CREATED:20240707T184614Z
LAST-MODIFIED:20240707T184614Z
UID:993423-1724432400-1724443200@evansburgvineyards.com
SUMMARY:Live Music: Sounds of Phoenix
DESCRIPTION:Live Music: Sounds of Phoenix \nSounds of Phoenix is an up and coming female acoustic duo playing a mix of songs from the 60s to now. Consisting of musicians Gia and Kathryn\, Sounds of Phoenix is known for their powerhouse vocals\, impressive guitar playing and blissful harmonies. They are currently working on recording original music\, and will be releasing an EP in the summer! Make sure to follow them on social media to follow along with their journey! \n \nClick here to return to our events. \nClick here to go to our Store.
URL:https://evansburgvineyards.com/event/live-music-sounds-of-phoenix/
LOCATION:Evansburg Vineyards\, 3857 Germantown Pike\, Collegeville\, PA\, 19426\, United States
CATEGORIES:Live Music
ORGANIZER;CN="Evansburg Vineyards":MAILTO:operations@evansburgvineyards.com
END:VEVENT
END:VCALENDAR