BEGIN:VCALENDAR
VERSION:2.0
PRODID:-//Evansburg Vineyard - ECPv6.15.17.1//NONSGML v1.0//EN
CALSCALE:GREGORIAN
METHOD:PUBLISH
X-WR-CALNAME:Evansburg Vineyard
X-ORIGINAL-URL:https://evansburgvineyards.com
X-WR-CALDESC:Events for Evansburg Vineyard
REFRESH-INTERVAL;VALUE=DURATION:PT1H
X-Robots-Tag:noindex
X-PUBLISHED-TTL:PT1H
BEGIN:VTIMEZONE
TZID:UTC
BEGIN:STANDARD
TZOFFSETFROM:+0000
TZOFFSETTO:+0000
TZNAME:UTC
DTSTART:20230101T000000
END:STANDARD
END:VTIMEZONE
BEGIN:VEVENT
DTSTART;TZID=UTC:20240803T120000
DTEND;TZID=UTC:20240803T130000
DTSTAMP:20260419T134006
CREATED:20240701T212505Z
LAST-MODIFIED:20240701T212505Z
UID:993373-1722686400-1722690000@evansburgvineyards.com
SUMMARY:Winemaker's Tour
DESCRIPTION:Winemaker’s Tour: Come and enjoy a one hour interactive tour led by the winemaker! On the tour you will learn about our vineyard\, our winemaking process\, and gain insight into lab analysis of wine during fermentation and maturation. Afterwards\, you will sit down and relax with a wine tasting that is included in your tour with a free souvenir to take home. \nTours are held every Saturday at noon. \nPlease contact us through our website if you are interested in scheduling a private tour. \nBUY TICKETS HERE \nWinemakers Tour | Saturdays | 12PM | $35\nClick here to return to our events. \nClick here to go to our Store.
URL:https://evansburgvineyards.com/event/winemakers-tour-108/
LOCATION:Evansburg Vineyards\, 3857 Germantown Pike\, Collegeville\, PA\, 19426\, United States
CATEGORIES:Tour
ORGANIZER;CN="Evansburg Vineyards":MAILTO:operations@evansburgvineyards.com
END:VEVENT
BEGIN:VEVENT
DTSTART;TZID=UTC:20240803T130000
DTEND;TZID=UTC:20240803T200000
DTSTAMP:20260419T134006
CREATED:20240729T192309Z
LAST-MODIFIED:20240729T192309Z
UID:993471-1722690000-1722715200@evansburgvineyards.com
SUMMARY:Food Truck: Taco Loco
DESCRIPTION:Evansburg Vineyards will be welcoming Tacos Locos Food Truck!  \nEnjoy some Tacos at Your Backyard Winery! \nCome with an empty stomach! \nMENU \n \nClick here to return to our events. \nClick here to go to our Store.
URL:https://evansburgvineyards.com/event/food-truck-taco-loco-31/
LOCATION:Evansburg Vineyards\, 3857 Germantown Pike\, Collegeville\, PA\, 19426\, United States
CATEGORIES:Food Trucks
ORGANIZER;CN="Evansburg Vineyards":MAILTO:operations@evansburgvineyards.com
END:VEVENT
BEGIN:VEVENT
DTSTART;TZID=UTC:20240803T170000
DTEND;TZID=UTC:20240803T200000
DTSTAMP:20260419T134006
CREATED:20240707T181329Z
LAST-MODIFIED:20240707T181329Z
UID:993404-1722704400-1722715200@evansburgvineyards.com
SUMMARY:Live Music: Danny Growler
DESCRIPTION:Live Music: Danny Growler \nPottstown-based Danny Growler brings an acoustic set that spans a wide selection of musical genres. Whether it’s classic rock\, country\, 90’s alternative\, or a “wild card” from another genre\, there’s something for everyone to enjoy in his repertoire! He strives to give his audience the feel of being at a concert from the comfort of their barstool with his energetic performances\, creative mash-ups\, and sing-along crowd participation. \nLive Music: Danny Growler\nClick here to return to our events. \nClick here to go to our Store.
URL:https://evansburgvineyards.com/event/live-music-danny-growler/
LOCATION:Evansburg Vineyards\, 3857 Germantown Pike\, Collegeville\, PA\, 19426\, United States
CATEGORIES:Live Music
ORGANIZER;CN="Evansburg Vineyards":MAILTO:operations@evansburgvineyards.com
END:VEVENT
END:VCALENDAR