BEGIN:VCALENDAR
VERSION:2.0
PRODID:-//Evansburg Vineyard - ECPv6.15.17.1//NONSGML v1.0//EN
CALSCALE:GREGORIAN
METHOD:PUBLISH
X-ORIGINAL-URL:https://evansburgvineyards.com
X-WR-CALDESC:Events for Evansburg Vineyard
REFRESH-INTERVAL;VALUE=DURATION:PT1H
X-Robots-Tag:noindex
X-PUBLISHED-TTL:PT1H
BEGIN:VTIMEZONE
TZID:UTC
BEGIN:STANDARD
TZOFFSETFROM:+0000
TZOFFSETTO:+0000
TZNAME:UTC
DTSTART:20230101T000000
END:STANDARD
END:VTIMEZONE
BEGIN:VEVENT
DTSTART;TZID=UTC:20240802T170000
DTEND;TZID=UTC:20240802T200000
DTSTAMP:20260419T152203
CREATED:20240707T180524Z
LAST-MODIFIED:20240707T181525Z
UID:993397-1722618000-1722628800@evansburgvineyards.com
SUMMARY:Live Music: Gary Hill
DESCRIPTION:Live Music: Gary Hill\n\nGary Hill’s lifelong music career began as a graduate of West Chester University School of Music. He has toured the U.S and Canada with recording artist Gigolo\, represented by Kool and the Gang’s management. Various other bands\, trios\, and duos have enjoyed his talents throughout his life\, and now his solo experience allows fans to hear some fantastic music offered up on both keyboard and guitar.\n \nLive Music: Gary Hill\nClick here to return to our events. \nClick here to go to our Store.
URL:https://evansburgvineyards.com/event/live-music-gary-hill/
LOCATION:Evansburg Vineyards\, 3857 Germantown Pike\, Collegeville\, PA\, 19426\, United States
CATEGORIES:Live Music
ORGANIZER;CN="Evansburg Vineyards":MAILTO:operations@evansburgvineyards.com
END:VEVENT
END:VCALENDAR