BEGIN:VCALENDAR
VERSION:2.0
PRODID:-//Evansburg Vineyard - ECPv6.15.17.1//NONSGML v1.0//EN
CALSCALE:GREGORIAN
METHOD:PUBLISH
X-WR-CALNAME:Evansburg Vineyard
X-ORIGINAL-URL:https://evansburgvineyards.com
X-WR-CALDESC:Events for Evansburg Vineyard
REFRESH-INTERVAL;VALUE=DURATION:PT1H
X-Robots-Tag:noindex
X-PUBLISHED-TTL:PT1H
BEGIN:VTIMEZONE
TZID:UTC
BEGIN:STANDARD
TZOFFSETFROM:+0000
TZOFFSETTO:+0000
TZNAME:UTC
DTSTART:20230101T000000
END:STANDARD
END:VTIMEZONE
BEGIN:VEVENT
DTSTART;TZID=UTC:20240720T120000
DTEND;TZID=UTC:20240720T130000
DTSTAMP:20260421T094824
CREATED:20240417T202806Z
LAST-MODIFIED:20240701T210728Z
UID:993084-1721476800-1721480400@evansburgvineyards.com
SUMMARY:Winemaker's Tour
DESCRIPTION:Winemaker’s Tour: Come and enjoy a one hour interactive tour led by the winemaker! On the tour you will learn about our vineyard\, our winemaking process\, and gain insight into lab analysis of wine during fermentation and maturation. Afterwards\, you will sit down and relax with a wine tasting that is included in your tour with a free souvenir to take home. \nTours are held every Saturday at noon. \nPlease contact us through our website if you are interested in scheduling a private tour. \nBUY TICKETS HERE \nWinemaker’s Tour Flyer | Saturdays | 12PM | $35\nClick here to return to our events. \nClick here to go to our Store.
URL:https://evansburgvineyards.com/event/winemakers-tour-107/
LOCATION:Evansburg Vineyards\, 3857 Germantown Pike\, Collegeville\, PA\, 19426\, United States
CATEGORIES:Tour
ORGANIZER;CN="Evansburg Vineyards":MAILTO:operations@evansburgvineyards.com
END:VEVENT
BEGIN:VEVENT
DTSTART;TZID=UTC:20240720T130000
DTEND;TZID=UTC:20240720T200000
DTSTAMP:20260421T094824
CREATED:20240702T185413Z
LAST-MODIFIED:20240702T185413Z
UID:993380-1721480400-1721505600@evansburgvineyards.com
SUMMARY:Food Truck: Taco Loco
DESCRIPTION:Evansburg Vineyards will be welcoming Tacos Locos Food Truck!  \nEnjoy some Tacos at Your Backyard Winery! \nCome with an empty stomach! \nMENU \n \nClick here to return to our events. \nClick here to go to our Store.
URL:https://evansburgvineyards.com/event/food-truck-taco-loco-25/
LOCATION:Evansburg Vineyards\, 3857 Germantown Pike\, Collegeville\, PA\, 19426\, United States
CATEGORIES:Food Trucks
ORGANIZER;CN="Evansburg Vineyards":MAILTO:operations@evansburgvineyards.com
END:VEVENT
BEGIN:VEVENT
DTSTART;TZID=UTC:20240720T160000
DTEND;TZID=UTC:20240720T190000
DTSTAMP:20260421T094824
CREATED:20240516T005747Z
LAST-MODIFIED:20240516T005747Z
UID:993219-1721491200-1721502000@evansburgvineyards.com
SUMMARY:Live Music: Rich Lanzilotti
DESCRIPTION:Live Music: Rich Lanzilotti \nRich Lanzilotti is a Philadelphia native who has been entertaining audiences since the 1970’s in various Top ’40s cover bands and in lounge acts at the Atlantic City casinos. After a hiatus from singing and playing\, Rich\, now a resident of Chester County\, Pennsylvania\, has returned to the stage – this time as a solo performer. Performing songs that are the soundtrack of our lives\, Rich plays and sings what is commonly referred to as “mellow Classic Rock” (along with a touch of country) accompanied by backing tracks for a full band sound. Rich is available for pubs\, bars\, parties and just about any venue where good music is appreciated. A splendid time is guaranteed for all! \n \nClick here to return to our events. \nClick here to go to our Store.
URL:https://evansburgvineyards.com/event/live-music-rich-lanzilotti-2/
LOCATION:Evansburg Vineyards\, 3857 Germantown Pike\, Collegeville\, PA\, 19426\, United States
CATEGORIES:Live Music
ORGANIZER;CN="Evansburg Vineyards":MAILTO:operations@evansburgvineyards.com
END:VEVENT
END:VCALENDAR