BEGIN:VCALENDAR
VERSION:2.0
PRODID:-//Evansburg Vineyard - ECPv6.15.17.1//NONSGML v1.0//EN
CALSCALE:GREGORIAN
METHOD:PUBLISH
X-ORIGINAL-URL:https://evansburgvineyards.com
X-WR-CALDESC:Events for Evansburg Vineyard
REFRESH-INTERVAL;VALUE=DURATION:PT1H
X-Robots-Tag:noindex
X-PUBLISHED-TTL:PT1H
BEGIN:VTIMEZONE
TZID:UTC
BEGIN:STANDARD
TZOFFSETFROM:+0000
TZOFFSETTO:+0000
TZNAME:UTC
DTSTART:20230101T000000
END:STANDARD
END:VTIMEZONE
BEGIN:VEVENT
DTSTART;TZID=UTC:20240713T120000
DTEND;TZID=UTC:20240713T130000
DTSTAMP:20260419T133903
CREATED:20240417T202739Z
LAST-MODIFIED:20240701T210824Z
UID:993082-1720872000-1720875600@evansburgvineyards.com
SUMMARY:Winemaker's Tour
DESCRIPTION:Winemaker’s Tour: Come and enjoy a one hour interactive tour led by the winemaker! On the tour you will learn about our vineyard\, our winemaking process\, and gain insight into lab analysis of wine during fermentation and maturation. Afterwards\, you will sit down and relax with a wine tasting that is included in your tour with a free souvenir to take home. \nTours are held every Saturday at noon. \nPlease contact us through our website if you are interested in scheduling a private tour. \nBUY TICKETS HERE \nWinemaker’s Tour Flyer | Saturdays | 12PM | $35\nClick here to return to our events. \nClick here to go to our Store.
URL:https://evansburgvineyards.com/event/winemakers-tour-106/
LOCATION:Evansburg Vineyards\, 3857 Germantown Pike\, Collegeville\, PA\, 19426\, United States
CATEGORIES:Tour
ORGANIZER;CN="Evansburg Vineyards":MAILTO:operations@evansburgvineyards.com
END:VEVENT
BEGIN:VEVENT
DTSTART;TZID=UTC:20240713T130000
DTEND;TZID=UTC:20240713T200000
DTSTAMP:20260419T133903
CREATED:20240702T185319Z
LAST-MODIFIED:20240702T185319Z
UID:993378-1720875600-1720900800@evansburgvineyards.com
SUMMARY:Food Truck: Taco Loco
DESCRIPTION:Evansburg Vineyards will be welcoming Tacos Locos Food Truck!  \nEnjoy some Tacos at Your Backyard Winery! \nCome with an empty stomach! \nMENU \n \nClick here to return to our events. \nClick here to go to our Store.
URL:https://evansburgvineyards.com/event/food-truck-taco-loco-24/
LOCATION:Evansburg Vineyards\, 3857 Germantown Pike\, Collegeville\, PA\, 19426\, United States
CATEGORIES:Food Trucks
ORGANIZER;CN="Evansburg Vineyards":MAILTO:operations@evansburgvineyards.com
END:VEVENT
BEGIN:VEVENT
DTSTART;TZID=UTC:20240713T160000
DTEND;TZID=UTC:20240713T190000
DTSTAMP:20260419T133903
CREATED:20240516T004209Z
LAST-MODIFIED:20240609T133018Z
UID:993211-1720886400-1720897200@evansburgvineyards.com
SUMMARY:Live Music: Lauren Mendelsohn
DESCRIPTION:Live Music: Lauren Mendelsohn \nLauren Mendelsohn\, a Bryn Mawr\, PA native\, embarked on her musical journey at age 5. With a folk-pop vibe inspired by icons like Crosby\, Stills\, Nash & Young and contemporary acts like Mumford & Sons\, she delivers soulful originals. Influenced by artists such as Taylor Swift and Sara Bareilles\, Lauren’s music enchants with eloquent lyricism and infectious melodies\, highlighting her honeyed vocals and unwavering optimism. \nHaving signed with Winding Way Records\, Lauren released her singles “Original” on August 9\, 2023\, and “Jet Plane” on March 13 of this year. She looks forward to sharing more music with Winding Way Records\, LLC.\, culminating in an album slated for release in 2025. \n \nClick here to return to our events. \nClick here to go to our Store.
URL:https://evansburgvineyards.com/event/live-music-lauren-mendelsohn/
LOCATION:Evansburg Vineyards\, 3857 Germantown Pike\, Collegeville\, PA\, 19426\, United States
CATEGORIES:Live Music
ORGANIZER;CN="Evansburg Vineyards":MAILTO:operations@evansburgvineyards.com
END:VEVENT
END:VCALENDAR