BEGIN:VCALENDAR
VERSION:2.0
PRODID:-//Evansburg Vineyard - ECPv6.15.17.1//NONSGML v1.0//EN
CALSCALE:GREGORIAN
METHOD:PUBLISH
X-WR-CALNAME:Evansburg Vineyard
X-ORIGINAL-URL:https://evansburgvineyards.com
X-WR-CALDESC:Events for Evansburg Vineyard
REFRESH-INTERVAL;VALUE=DURATION:PT1H
X-Robots-Tag:noindex
X-PUBLISHED-TTL:PT1H
BEGIN:VTIMEZONE
TZID:UTC
BEGIN:STANDARD
TZOFFSETFROM:+0000
TZOFFSETTO:+0000
TZNAME:UTC
DTSTART:20230101T000000
END:STANDARD
END:VTIMEZONE
BEGIN:VEVENT
DTSTART;TZID=UTC:20240630T110000
DTEND;TZID=UTC:20240630T110000
DTSTAMP:20260421T111554
CREATED:20240608T152055Z
LAST-MODIFIED:20240608T152133Z
UID:993307-1719745200-1719745200@evansburgvineyards.com
SUMMARY:Yoga By The Vineyard | @moyo_centerforwellbeing
DESCRIPTION:Each yoga class ticket purchase includes a glass of EV wine after the yoga class! \nThis yoga class will be held by MOYO Yoga’s co-owner\, Jesse Russell. His classes combine elements of hatha yoga\, vinyasa yoga\, mindfulness\, and meditation. While having experience with the names of the poses can be helpful\, he does his best to make every class accessible to both beginners and seasoned practitioners. \nHis aim is to always assist students in cultivating greater body/mind/breath awareness as well as a sense of relaxed presence. Yoga is meant to be a “work-in”\, not a work-out\, and accordingly\, his classes always emphasize the inner qualities experienced during the practice above the ability or inability to bend or twist in an elaborate way. \nParticipants should bring a yoga mat and any other props which they use to support their practice. Staying hydrated\, especially during hot summer days\, is very important\, so please be sure to have access to water. It is also best to practice on an empty stomach or at least 2 hours after eating. \nPlease arrive a few minutes early with this waiver filled out to give yourself time to settle in. \n  \n\nBUY TICKETS \n  \n\n\n  \nClick here to return to our events. \nClick here to go to our Store. \n\n\n 
URL:https://evansburgvineyards.com/event/yoga-by-the-vineyard/
LOCATION:Evansburg Vineyards\, 3857 Germantown Pike\, Collegeville\, PA\, 19426\, United States
CATEGORIES:Yoga
ORGANIZER;CN="Evansburg Vineyards":MAILTO:operations@evansburgvineyards.com
END:VEVENT
BEGIN:VEVENT
DTSTART;TZID=UTC:20240630T120000
DTEND;TZID=UTC:20240630T180000
DTSTAMP:20260421T111554
CREATED:20240603T152455Z
LAST-MODIFIED:20240603T152455Z
UID:993282-1719748800-1719770400@evansburgvineyards.com
SUMMARY:Caricatures By The Vineyard | @danstoonz
DESCRIPTION:Caricatures By The Vineyard \nDaniel Perez ( Dan’s Toonz Caricatures)is a professional caricaturist operating mainly within Southeast Pennsylvania. He has been working professionally for over 7 years. Both self taught and formally trained under various professional cartoonists\, Daniel has developed a distinct\, flattering style of caricature. His sketches are very popular at weddings and private parties! \nClick here to return to our events. \nClick here to go to our Store.
URL:https://evansburgvineyards.com/event/caricatures-by-the-vineyard/
LOCATION:Evansburg Vineyards\, 3857 Germantown Pike\, Collegeville\, PA\, 19426\, United States
CATEGORIES:Pop Up
ORGANIZER;CN="Evansburg Vineyards":MAILTO:operations@evansburgvineyards.com
END:VEVENT
BEGIN:VEVENT
DTSTART;TZID=UTC:20240630T120000
DTEND;TZID=UTC:20240630T180000
DTSTAMP:20260421T111554
CREATED:20240608T151522Z
LAST-MODIFIED:20240608T151522Z
UID:993303-1719748800-1719770400@evansburgvineyards.com
SUMMARY:Food Truck: Taco Loco
DESCRIPTION:Evansburg Vineyards will be welcoming Tacos Locos Food Truck!  \nEnjoy some Tacos at Your Backyard Winery! \nCome with an empty stomach! \n \nClick here to return to our events. \nClick here to go to our Store.
URL:https://evansburgvineyards.com/event/food-truck-taco-loco-21/
LOCATION:Evansburg Vineyards\, 3857 Germantown Pike\, Collegeville\, PA\, 19426\, United States
CATEGORIES:Food Trucks
ORGANIZER;CN="Evansburg Vineyards":MAILTO:operations@evansburgvineyards.com
END:VEVENT
BEGIN:VEVENT
DTSTART;TZID=UTC:20240630T140000
DTEND;TZID=UTC:20240630T170000
DTSTAMP:20260421T111554
CREATED:20240513T225716Z
LAST-MODIFIED:20240513T225716Z
UID:993162-1719756000-1719766800@evansburgvineyards.com
SUMMARY:Live Music: M. Santiago
DESCRIPTION:Live Music: M. Santiago \nCome enjoy live music with M. Santiago\, a local musician who plays a wide range of styles and periods but his favorites are the ‘Yacht Rock’ songs along with artists like Elton John\, Barry Manilow\, Beatles\, and Billy Joel. He mixes in B-side and one-hit wonder songs and\, if he can pull up a chart\, he’ll even try a request or two. \nThere’s always something new for the audience and him! \n \nClick here to return to our events. \nClick here to go to our Store.
URL:https://evansburgvineyards.com/event/live-music-m-santiago-46/
LOCATION:Evansburg Vineyards\, 3857 Germantown Pike\, Collegeville\, PA\, 19426\, United States
CATEGORIES:Live Music
ORGANIZER;CN="Evansburg Vineyards":MAILTO:operations@evansburgvineyards.com
END:VEVENT
END:VCALENDAR