BEGIN:VCALENDAR
VERSION:2.0
PRODID:-//Evansburg Vineyard - ECPv6.15.17.1//NONSGML v1.0//EN
CALSCALE:GREGORIAN
METHOD:PUBLISH
X-ORIGINAL-URL:https://evansburgvineyards.com
X-WR-CALDESC:Events for Evansburg Vineyard
REFRESH-INTERVAL;VALUE=DURATION:PT1H
X-Robots-Tag:noindex
X-PUBLISHED-TTL:PT1H
BEGIN:VTIMEZONE
TZID:UTC
BEGIN:STANDARD
TZOFFSETFROM:+0000
TZOFFSETTO:+0000
TZNAME:UTC
DTSTART:20230101T000000
END:STANDARD
END:VTIMEZONE
BEGIN:VEVENT
DTSTART;TZID=UTC:20240629T110000
DTEND;TZID=UTC:20240629T120000
DTSTAMP:20260421T142011
CREATED:20240522T124946Z
LAST-MODIFIED:20240522T124946Z
UID:993229-1719658800-1719662400@evansburgvineyards.com
SUMMARY:Sound Bath Meditation | @jenwhoplaysthegong
DESCRIPTION:Sound Bath Meditation includes a complimentary glass of wine after the sound bath meditation. \nWhat is SOUND BATH? \nA deep dose of rest\, relaxation and reflection through sound and vibrational immersion with a gong\, handpan\, singing bowls\, chimes\, drums and more! You will lie or sit comfortably for this hour of peaceful being. Deeply listening to intentional sounds and vibrations effortlessly relieves stress\, calms the mind\, improves sleep and overall focus plus so much more. \nBRING YOUR OWN yoga mat\, comforts (pillows\, blankets\, bolsters\, eye pillow)\, and perhaps a journal to reflect after the sound immersion. \nAbout your teacher: \nJen has delved into both the medical and holistic healing arts over the past decade. \nBeing a former nurse\, Jen’s sound immersion offerings are uniquely catered to the energy of the room or individual as learned from the bedside. Every encounter is intended for the recipient to feel safe\, warm\, and comfortable so they are able to release and deepen into their journey. \nPlease arrive 10min early so we can start the meditation right on time! \nCLICK HERE TO BUY TICKETS! \n \nClick here to return to our events. \nClick here to go to our Store.
URL:https://evansburgvineyards.com/event/sound-bath-meditation-jenwhoplaysthegong-5/
LOCATION:Evansburg Vineyards\, 3857 Germantown Pike\, Collegeville\, PA\, 19426\, United States
CATEGORIES:Workshop
END:VEVENT
BEGIN:VEVENT
DTSTART;TZID=UTC:20240629T120000
DTEND;TZID=UTC:20240629T130000
DTSTAMP:20260421T142011
CREATED:20240417T202604Z
LAST-MODIFIED:20240417T202604Z
UID:993078-1719662400-1719666000@evansburgvineyards.com
SUMMARY:Winemaker's Tour
DESCRIPTION:Winemaker’s Tour: Come and enjoy a one hour interactive tour led by the winemaker! On the tour you will learn about our vineyard\, our winemaking process\, and gain insight into lab analysis of wine during fermentation and maturation. Afterwards\, you will sit down and relax with a wine tasting that is included in your tour with a free souvenir to take home. \nTours are held every Saturday at noon. \nPlease contact us through our website if you are interested in scheduling a private tour. \nBUY TICKETS HERE \nWinemaker’s Tour Flyer | Saturdays | 12PM | $30\nClick here to return to our events. \nClick here to go to our Store.
URL:https://evansburgvineyards.com/event/winemakers-tour-104/
LOCATION:Evansburg Vineyards\, 3857 Germantown Pike\, Collegeville\, PA\, 19426\, United States
CATEGORIES:Tour
ORGANIZER;CN="Evansburg Vineyards":MAILTO:operations@evansburgvineyards.com
END:VEVENT
BEGIN:VEVENT
DTSTART;TZID=UTC:20240629T150000
DTEND;TZID=UTC:20240629T190000
DTSTAMP:20260421T142011
CREATED:20240603T151742Z
LAST-MODIFIED:20240603T151742Z
UID:993278-1719673200-1719687600@evansburgvineyards.com
SUMMARY:HolmeStyle Food Pop Up
DESCRIPTION:Savor the flavors of craftsmanship of HolmeStyle Food Pop-Up\, where every dish is a delicious testament to the art of scratch-made cuisine. Join us at Evansburg Vineyards for an unforgettable culinary experience.  \nFrom 3-7pm or until the food runs out! \n \nClick here to return to our events. \nClick here to go to our Store.
URL:https://evansburgvineyards.com/event/holmestyle-food-pop-up-33/
LOCATION:Evansburg Vineyards\, 3857 Germantown Pike\, Collegeville\, PA\, 19426\, United States
CATEGORIES:Food Pop Up
END:VEVENT
BEGIN:VEVENT
DTSTART;TZID=UTC:20240629T160000
DTEND;TZID=UTC:20240629T190000
DTSTAMP:20260421T142011
CREATED:20240513T225613Z
LAST-MODIFIED:20240513T225809Z
UID:993160-1719676800-1719687600@evansburgvineyards.com
SUMMARY:Live Music: Matt Plaisted
DESCRIPTION:Live Music: Matt Plaisted \nFor Matt\, there’s nothing better than making a connection with folks through music. As the late great Tom Petty said: “Music is probably the only real magic I have encountered in my life. There’s not some trick involved with it. It’s pure and it’s real. It moves\, it heals\, it communicates and does all these incredible things.”\nMatt has been playing in cover bands in the Philadelphia area from the age of 13. He went solo in 2014 and built a stellar reputation for himself over the last decade. Matt brings great real world playing experience to The Crossroads and will be a asset to any of his students. \n \nClick here to return to our events. \nClick here to go to our Store.
URL:https://evansburgvineyards.com/event/live-music-matt-plaisted-2/
LOCATION:Evansburg Vineyards\, 3857 Germantown Pike\, Collegeville\, PA\, 19426\, United States
CATEGORIES:Live Music
ORGANIZER;CN="Evansburg Vineyards":MAILTO:operations@evansburgvineyards.com
END:VEVENT
END:VCALENDAR