BEGIN:VCALENDAR
VERSION:2.0
PRODID:-//Evansburg Vineyard - ECPv6.15.17.1//NONSGML v1.0//EN
CALSCALE:GREGORIAN
METHOD:PUBLISH
X-WR-CALNAME:Evansburg Vineyard
X-ORIGINAL-URL:https://evansburgvineyards.com
X-WR-CALDESC:Events for Evansburg Vineyard
REFRESH-INTERVAL;VALUE=DURATION:PT1H
X-Robots-Tag:noindex
X-PUBLISHED-TTL:PT1H
BEGIN:VTIMEZONE
TZID:UTC
BEGIN:STANDARD
TZOFFSETFROM:+0000
TZOFFSETTO:+0000
TZNAME:UTC
DTSTART:20230101T000000
END:STANDARD
END:VTIMEZONE
BEGIN:VEVENT
DTSTART;TZID=UTC:20240621T160000
DTEND;TZID=UTC:20240621T200000
DTSTAMP:20260419T151634
CREATED:20240603T151310Z
LAST-MODIFIED:20240603T151310Z
UID:993274-1718985600-1719000000@evansburgvineyards.com
SUMMARY:HolmeStyle Food Pop Up
DESCRIPTION:Savor the flavors of craftsmanship of HolmeStyle Food Pop-Up\, where every dish is a delicious testament to the art of scratch-made cuisine. Join us at Evansburg Vineyards for an unforgettable culinary experience.  \nFrom 4-8pm or until the food runs out! \n \nClick here to return to our events. \nClick here to go to our Store.
URL:https://evansburgvineyards.com/event/holmestyle-food-pop-up-31/
LOCATION:Evansburg Vineyards\, 3857 Germantown Pike\, Collegeville\, PA\, 19426\, United States
CATEGORIES:Food Pop Up
END:VEVENT
BEGIN:VEVENT
DTSTART;TZID=UTC:20240621T170000
DTEND;TZID=UTC:20240621T200000
DTSTAMP:20260419T151634
CREATED:20240513T224635Z
LAST-MODIFIED:20240513T224635Z
UID:993152-1718989200-1719000000@evansburgvineyards.com
SUMMARY:Live Music: Gene Cullison
DESCRIPTION:Live Music: Gene Cullison \nGene Cullison is a graduate of West Chester University in Music Education. When he’s not teaching music\, he enjoys singing and playing. His library includes folk rock\, country\, pop\, and rock. Gene specializes playing supersets from singer songwriters of the 60s-70s. His favorite artist is James Taylor. \n \nClick here to return to our events. \nClick here to go to our Store.
URL:https://evansburgvineyards.com/event/live-music-gene-cullison/
LOCATION:Evansburg Vineyards\, 3857 Germantown Pike\, Collegeville\, PA\, 19426\, United States
CATEGORIES:Live Music
ORGANIZER;CN="Evansburg Vineyards":MAILTO:operations@evansburgvineyards.com
END:VEVENT
END:VCALENDAR