BEGIN:VCALENDAR
VERSION:2.0
PRODID:-//Evansburg Vineyard - ECPv6.15.17.1//NONSGML v1.0//EN
CALSCALE:GREGORIAN
METHOD:PUBLISH
X-WR-CALNAME:Evansburg Vineyard
X-ORIGINAL-URL:https://evansburgvineyards.com
X-WR-CALDESC:Events for Evansburg Vineyard
REFRESH-INTERVAL;VALUE=DURATION:PT1H
X-Robots-Tag:noindex
X-PUBLISHED-TTL:PT1H
BEGIN:VTIMEZONE
TZID:UTC
BEGIN:STANDARD
TZOFFSETFROM:+0000
TZOFFSETTO:+0000
TZNAME:UTC
DTSTART:20230101T000000
END:STANDARD
END:VTIMEZONE
BEGIN:VEVENT
DTSTART;TZID=UTC:20240620T180000
DTEND;TZID=UTC:20240620T200000
DTSTAMP:20260419T150224
CREATED:20240522T125610Z
LAST-MODIFIED:20240603T122926Z
UID:993235-1718906400-1718913600@evansburgvineyards.com
SUMMARY:Acrylic Pour\, Paint & Sip Workshop | Julie Potter
DESCRIPTION:Acrylic Pour\, Paint & Sip Workshop\nThis ticket includes a wine glass with purchase! \nCome and learn the basics of pour painting. Everyone can do this class! I feel that everyone has artistic ability within themselves\, you will be amazed at the paintings you will create. You will learn step by step instructions\, from mixing the paint to completing two canvases using two separate techniques – The Flip Cup and The Dirty Pour. You will learn the variations of paint coverage. \nEveryone will leave with two finished pieces of their artwork. \nPlease wear clothes you don’t mind getting paint on\, and bring a cookie sheet covered in tin foil to transport your artwork home with you.  \nAbout your workshop host\, Julie Potter: \nI have been making “art” since I was old enough to hold a crayon. My training started when I was in 2nd grade\, I took private art lessons from an artist that lived in our town. \nI went to Drexel University and received a BA for Fabric Design and Interior Design. I had my own company\, doing very diverse art projects\, such as I designed a scarf that was used in the Mother’s Day catalog for a Phila. based company. I did illustrations for several different magazines. I designed the fabric using the Batik Method\, and made  \nclothes with it\, that was sold in a New York based boutique. I really got back into acrylic painting about 11 years ago\, and have been making my pour paintings every since then. \nIf you have any trouble signing up for this event\, please send us an email at operations@evansburgvineyards.com \nBUY TICKETS HERE\n \n\n\n\n\n\n\n\n\n\n\n\n\n\n\n\n\n\n\n\n\n\n\n\n\n\n\n\n \n\n\nClick here to return to our events. \nClick here to go to our Store.
URL:https://evansburgvineyards.com/event/acrylic-pour-paint-sip-workshop-2/
LOCATION:Evansburg Vineyards\, 3857 Germantown Pike\, Collegeville\, PA\, 19426\, United States
CATEGORIES:Workshop
END:VEVENT
END:VCALENDAR