BEGIN:VCALENDAR
VERSION:2.0
PRODID:-//Evansburg Vineyard - ECPv6.15.17.1//NONSGML v1.0//EN
CALSCALE:GREGORIAN
METHOD:PUBLISH
X-WR-CALNAME:Evansburg Vineyard
X-ORIGINAL-URL:https://evansburgvineyards.com
X-WR-CALDESC:Events for Evansburg Vineyard
REFRESH-INTERVAL;VALUE=DURATION:PT1H
X-Robots-Tag:noindex
X-PUBLISHED-TTL:PT1H
BEGIN:VTIMEZONE
TZID:UTC
BEGIN:STANDARD
TZOFFSETFROM:+0000
TZOFFSETTO:+0000
TZNAME:UTC
DTSTART:20230101T000000
END:STANDARD
END:VTIMEZONE
BEGIN:VEVENT
DTSTART;TZID=UTC:20240616T130000
DTEND;TZID=UTC:20240616T170000
DTSTAMP:20260419T180459
CREATED:20240603T151956Z
LAST-MODIFIED:20240603T151956Z
UID:993280-1718542800-1718557200@evansburgvineyards.com
SUMMARY:HolmeStyle Food Pop Up
DESCRIPTION:Savor the flavors of craftsmanship of HolmeStyle Food Pop-Up\, where every dish is a delicious testament to the art of scratch-made cuisine. Join us at Evansburg Vineyards for an unforgettable culinary experience.  \nFrom 1-5pm or until the food runs out! \n \nClick here to return to our events. \nClick here to go to our Store.
URL:https://evansburgvineyards.com/event/holmestyle-food-pop-up-34/
LOCATION:Evansburg Vineyards\, 3857 Germantown Pike\, Collegeville\, PA\, 19426\, United States
CATEGORIES:Food Pop Up
END:VEVENT
BEGIN:VEVENT
DTSTART;TZID=UTC:20240616T140000
DTEND;TZID=UTC:20240616T170000
DTSTAMP:20260419T180459
CREATED:20240513T224315Z
LAST-MODIFIED:20240513T224332Z
UID:993150-1718546400-1718557200@evansburgvineyards.com
SUMMARY:Live Music: Jake Dillon
DESCRIPTION:Live Music: Jake Dillon \nJake Dillon is a 27-year-old singer-songwriter from Philadelphia\, Pennsylvania. He transitioned from special education teaching to pursue music full-time in 2023. He has since toured the eastern United States and amassed around 75\,000 Spotify streams with his most successful song “Morning Light” nearing 25\,000 streams. His music spans ambient indie folk to lively indie rock. Presently\, he teaches music and performs full-time. In his 50 songs\, he delves into relationships\, faith\, traveling\, and overcoming self-doubt. \n \nClick here to return to our events. \nClick here to go to our Store.
URL:https://evansburgvineyards.com/event/live-music-jake-dillon/
LOCATION:Evansburg Vineyards\, 3857 Germantown Pike\, Collegeville\, PA\, 19426\, United States
CATEGORIES:Live Music
ORGANIZER;CN="Evansburg Vineyards":MAILTO:operations@evansburgvineyards.com
END:VEVENT
END:VCALENDAR