BEGIN:VCALENDAR
VERSION:2.0
PRODID:-//Evansburg Vineyard - ECPv6.15.17.1//NONSGML v1.0//EN
CALSCALE:GREGORIAN
METHOD:PUBLISH
X-ORIGINAL-URL:https://evansburgvineyards.com
X-WR-CALDESC:Events for Evansburg Vineyard
REFRESH-INTERVAL;VALUE=DURATION:PT1H
X-Robots-Tag:noindex
X-PUBLISHED-TTL:PT1H
BEGIN:VTIMEZONE
TZID:UTC
BEGIN:STANDARD
TZOFFSETFROM:+0000
TZOFFSETTO:+0000
TZNAME:UTC
DTSTART:20230101T000000
END:STANDARD
END:VTIMEZONE
BEGIN:VEVENT
DTSTART;TZID=UTC:20240615T120000
DTEND;TZID=UTC:20240615T130000
DTSTAMP:20260421T155859
CREATED:20240417T202440Z
LAST-MODIFIED:20240417T202440Z
UID:993074-1718452800-1718456400@evansburgvineyards.com
SUMMARY:Winemaker's Tour
DESCRIPTION:Winemaker’s Tour: Come and enjoy a one hour interactive tour led by the winemaker! On the tour you will learn about our vineyard\, our winemaking process\, and gain insight into lab analysis of wine during fermentation and maturation. Afterwards\, you will sit down and relax with a wine tasting that is included in your tour with a free souvenir to take home. \nTours are held every Saturday at noon. \nPlease contact us through our website if you are interested in scheduling a private tour. \nBUY TICKETS HERE \nWinemaker’s Tour Flyer | Saturdays | 12PM | $30\nClick here to return to our events. \nClick here to go to our Store.
URL:https://evansburgvineyards.com/event/winemakers-tour-102/
LOCATION:Evansburg Vineyards\, 3857 Germantown Pike\, Collegeville\, PA\, 19426\, United States
CATEGORIES:Tour
ORGANIZER;CN="Evansburg Vineyards":MAILTO:operations@evansburgvineyards.com
END:VEVENT
BEGIN:VEVENT
DTSTART;TZID=UTC:20240615T130000
DTEND;TZID=UTC:20240615T200000
DTSTAMP:20260421T155859
CREATED:20240608T151625Z
LAST-MODIFIED:20240608T151625Z
UID:993305-1718456400-1718481600@evansburgvineyards.com
SUMMARY:Food Truck: Taco Loco
DESCRIPTION:Evansburg Vineyards will be welcoming Tacos Locos Food Truck!  \nEnjoy some Tacos at Your Backyard Winery! \nCome with an empty stomach! \n \nClick here to return to our events. \nClick here to go to our Store.
URL:https://evansburgvineyards.com/event/food-truck-taco-loco-22/
LOCATION:Evansburg Vineyards\, 3857 Germantown Pike\, Collegeville\, PA\, 19426\, United States
CATEGORIES:Food Trucks
ORGANIZER;CN="Evansburg Vineyards":MAILTO:operations@evansburgvineyards.com
END:VEVENT
BEGIN:VEVENT
DTSTART;TZID=UTC:20240615T160000
DTEND;TZID=UTC:20240615T190000
DTSTAMP:20260421T155859
CREATED:20240513T223934Z
LAST-MODIFIED:20240513T223934Z
UID:993148-1718467200-1718478000@evansburgvineyards.com
SUMMARY:Live Music: Just Us
DESCRIPTION:Live Music: Just Us \n“Just Us” is a duo consisting of\, Pat Capone\, a vocalist that has utilized her voice and guitar skills to participate in various choirs and ensembles for the last 30 years. She is backed up by her husband\, Martin\, on keyboards. Martin is a multi-instrumentalist who has played in various local bands since the 70’s. Together they have been performing their repertoire of over five decades of popular music in many local venues for the last ten years. \n \nClick here to return to our events. \nClick here to go to our Store.
URL:https://evansburgvineyards.com/event/live-music-just-us-2/
LOCATION:Evansburg Vineyards\, 3857 Germantown Pike\, Collegeville\, PA\, 19426\, United States
CATEGORIES:Live Music
ORGANIZER;CN="Evansburg Vineyards":MAILTO:operations@evansburgvineyards.com
END:VEVENT
END:VCALENDAR