BEGIN:VCALENDAR
VERSION:2.0
PRODID:-//Evansburg Vineyard - ECPv6.15.17.1//NONSGML v1.0//EN
CALSCALE:GREGORIAN
METHOD:PUBLISH
X-ORIGINAL-URL:https://evansburgvineyards.com
X-WR-CALDESC:Events for Evansburg Vineyard
REFRESH-INTERVAL;VALUE=DURATION:PT1H
X-Robots-Tag:noindex
X-PUBLISHED-TTL:PT1H
BEGIN:VTIMEZONE
TZID:UTC
BEGIN:STANDARD
TZOFFSETFROM:+0000
TZOFFSETTO:+0000
TZNAME:UTC
DTSTART:20230101T000000
END:STANDARD
END:VTIMEZONE
BEGIN:VEVENT
DTSTART;TZID=UTC:20240607T160000
DTEND;TZID=UTC:20240607T200000
DTSTAMP:20260419T182548
CREATED:20240603T150830Z
LAST-MODIFIED:20240603T150830Z
UID:993270-1717776000-1717790400@evansburgvineyards.com
SUMMARY:HolmeStyle Food Pop Up
DESCRIPTION:Savor the flavors of craftsmanship of HolmeStyle Food Pop-Up\, where every dish is a delicious testament to the art of scratch-made cuisine. Join us at Evansburg Vineyards for an unforgettable culinary experience.  \nFrom 4-8pm or until the food runs out! \n \nClick here to return to our events. \nClick here to go to our Store.
URL:https://evansburgvineyards.com/event/holmestyle-food-pop-up-29/
LOCATION:Evansburg Vineyards\, 3857 Germantown Pike\, Collegeville\, PA\, 19426\, United States
CATEGORIES:Food Pop Up
END:VEVENT
BEGIN:VEVENT
DTSTART;TZID=UTC:20240607T170000
DTEND;TZID=UTC:20240607T200000
DTSTAMP:20260419T182548
CREATED:20240513T223420Z
LAST-MODIFIED:20240513T223420Z
UID:993140-1717779600-1717790400@evansburgvineyards.com
SUMMARY:Live Music: Ayva Behm
DESCRIPTION:Live Music: Ayva Behm \nAyva is a singer/songwriter from Southeast Pennsylvania with a niche for fingerstyle guitar and heartfelt piano. Her sound is reminiscent of Joni Mitchell and Jewel\, with sweet and soothing melodies for the soul. Come out for a blend of nostalgic covers and debut songs written from the heart. \n \nClick here to return to our events. \nClick here to go to our Store.
URL:https://evansburgvineyards.com/event/live-music-ayva-behm-2/
LOCATION:Evansburg Vineyards\, 3857 Germantown Pike\, Collegeville\, PA\, 19426\, United States
CATEGORIES:Live Music
ORGANIZER;CN="Evansburg Vineyards":MAILTO:operations@evansburgvineyards.com
END:VEVENT
END:VCALENDAR