BEGIN:VCALENDAR
VERSION:2.0
PRODID:-//Evansburg Vineyard - ECPv6.15.17.1//NONSGML v1.0//EN
CALSCALE:GREGORIAN
METHOD:PUBLISH
X-WR-CALNAME:Evansburg Vineyard
X-ORIGINAL-URL:https://evansburgvineyards.com
X-WR-CALDESC:Events for Evansburg Vineyard
REFRESH-INTERVAL;VALUE=DURATION:PT1H
X-Robots-Tag:noindex
X-PUBLISHED-TTL:PT1H
BEGIN:VTIMEZONE
TZID:UTC
BEGIN:STANDARD
TZOFFSETFROM:+0000
TZOFFSETTO:+0000
TZNAME:UTC
DTSTART:20230101T000000
END:STANDARD
END:VTIMEZONE
BEGIN:VEVENT
DTSTART;TZID=UTC:20240601T120000
DTEND;TZID=UTC:20240601T130000
DTSTAMP:20260419T164852
CREATED:20240417T202259Z
LAST-MODIFIED:20240417T202259Z
UID:993070-1717243200-1717246800@evansburgvineyards.com
SUMMARY:Winemaker's Tour
DESCRIPTION:Winemaker’s Tour: Come and enjoy a one hour interactive tour led by the winemaker! On the tour you will learn about our vineyard\, our winemaking process\, and gain insight into lab analysis of wine during fermentation and maturation. Afterwards\, you will sit down and relax with a wine tasting that is included in your tour with a free souvenir to take home. \nTours are held every Saturday at noon. \nPlease contact us through our website if you are interested in scheduling a private tour. \nBUY TICKETS HERE \nWinemaker’s Tour Flyer | Saturdays | 12PM | $30\nClick here to return to our events. \nClick here to go to our Store.
URL:https://evansburgvineyards.com/event/winemakers-tour-100/
LOCATION:Evansburg Vineyards\, 3857 Germantown Pike\, Collegeville\, PA\, 19426\, United States
CATEGORIES:Tour
ORGANIZER;CN="Evansburg Vineyards":MAILTO:operations@evansburgvineyards.com
END:VEVENT
BEGIN:VEVENT
DTSTART;TZID=UTC:20240601T160000
DTEND;TZID=UTC:20240601T190000
DTSTAMP:20260419T164852
CREATED:20240513T223141Z
LAST-MODIFIED:20240513T223141Z
UID:993136-1717257600-1717268400@evansburgvineyards.com
SUMMARY:Live Music: Trycheck
DESCRIPTION:Live Music: Trycheck \n\nMichael Trycieckyj will be performing live at Evansburg Vineyards! Michael Trycieckyj\, also known as Trycheck\, is a performer\, songwriter\, producer\, from Philadelphia\, Pennsylvania. With a diverse background in rock\, folk\, and choral music\, Trycheck has performed at World Café Live\, the BB&T Pavilion\, Westminster Abbey and venues across the city of Philadelphia. As a producer and engineer\, Michael records local artists including his bands\, Andorra and Box of Books\, with albums available on all major streaming platforms. Trycheck is an active entertainer at bars and restaurants in the region performing acoustic covers of favorites ranging from Otis Redding to The Lumineers and anything in between. \n \nClick here to return to our events. \nClick here to go to our Store.
URL:https://evansburgvineyards.com/event/live-music-trycheck/
LOCATION:Evansburg Vineyards\, 3857 Germantown Pike\, Collegeville\, PA\, 19426\, United States
CATEGORIES:Live Music
ORGANIZER;CN="Evansburg Vineyards":MAILTO:operations@evansburgvineyards.com
END:VEVENT
END:VCALENDAR