BEGIN:VCALENDAR
VERSION:2.0
PRODID:-//Evansburg Vineyard - ECPv6.15.17.1//NONSGML v1.0//EN
CALSCALE:GREGORIAN
METHOD:PUBLISH
X-WR-CALNAME:Evansburg Vineyard
X-ORIGINAL-URL:https://evansburgvineyards.com
X-WR-CALDESC:Events for Evansburg Vineyard
REFRESH-INTERVAL;VALUE=DURATION:PT1H
X-Robots-Tag:noindex
X-PUBLISHED-TTL:PT1H
BEGIN:VTIMEZONE
TZID:UTC
BEGIN:STANDARD
TZOFFSETFROM:+0000
TZOFFSETTO:+0000
TZNAME:UTC
DTSTART:20230101T000000
END:STANDARD
END:VTIMEZONE
BEGIN:VEVENT
DTSTART;TZID=UTC:20240531T170000
DTEND;TZID=UTC:20240531T200000
DTSTAMP:20260419T210301
CREATED:20240513T222756Z
LAST-MODIFIED:20240513T222756Z
UID:993129-1717174800-1717185600@evansburgvineyards.com
SUMMARY:Live Music: Matt Kresge
DESCRIPTION:Live Music: Matt Kresge \n\nMatt Kresge has been performing throughout the Philly area for over 25 years both as a solo performer and with his acoustic duo Shady Groove. His repertoire of classic rock\, folk\, bluegrass\, classic country\, blues and surf creates a musical atmosphere for all. His eclectic mix and the fact that he’s a left-hander playing a right-handed guitar upside down keeps things entertaining to say the least! When he’s not performing\, Matt also teaches guitar\, ukulele and drums throughout Montgomery County. \n  \n \nClick here to return to our events. \nClick here to go to our Store.
URL:https://evansburgvineyards.com/event/live-music-matt-kresge-2/
LOCATION:Evansburg Vineyards\, 3857 Germantown Pike\, Collegeville\, PA\, 19426\, United States
CATEGORIES:Live Music
ORGANIZER;CN="Evansburg Vineyards":MAILTO:operations@evansburgvineyards.com
END:VEVENT
END:VCALENDAR