BEGIN:VCALENDAR
VERSION:2.0
PRODID:-//Evansburg Vineyard - ECPv6.15.17.1//NONSGML v1.0//EN
CALSCALE:GREGORIAN
METHOD:PUBLISH
X-WR-CALNAME:Evansburg Vineyard
X-ORIGINAL-URL:https://evansburgvineyards.com
X-WR-CALDESC:Events for Evansburg Vineyard
REFRESH-INTERVAL;VALUE=DURATION:PT1H
X-Robots-Tag:noindex
X-PUBLISHED-TTL:PT1H
BEGIN:VTIMEZONE
TZID:UTC
BEGIN:STANDARD
TZOFFSETFROM:+0000
TZOFFSETTO:+0000
TZNAME:UTC
DTSTART:20230101T000000
END:STANDARD
END:VTIMEZONE
BEGIN:VEVENT
DTSTART;TZID=UTC:20240523T183000
DTEND;TZID=UTC:20240523T203000
DTSTAMP:20260419T195917
CREATED:20240510T212608Z
LAST-MODIFIED:20240510T212608Z
UID:993123-1716489000-1716496200@evansburgvineyards.com
SUMMARY:Wine & Cheese: Build a Board
DESCRIPTION:Wine & Cheese: Build a Board | Come join us for a fun & tasty cheese-centric platter workshop\, led by Celestin Holmberg\, owner of The Grand Fromage in Skippack Village. You’ll have the amazing opportunity to learn some fabulous styling tips and tricks for crafting the perfect cheese platter w/ meat. We’ll provide all the necessary ingredients and tools to create a beautiful and oh-so-delicious cheese platter to take home and share. Don’t miss out! \nThis workshop includes a deliciously-paired Wine Tasting Flight of 4 Wines to enjoy while crafting your perfect charcuterie board. \nPlease send an email to operations@evansburgvineyards.com for any questions or difficulty signing up! \nBUY TICKETS HERE \n \nClick here to return to our events. \nClick here to go to our Store.
URL:https://evansburgvineyards.com/event/wine-cheese-build-a-board/
LOCATION:Evansburg Vineyards\, 3857 Germantown Pike\, Collegeville\, PA\, 19426\, United States
END:VEVENT
END:VCALENDAR