BEGIN:VCALENDAR
VERSION:2.0
PRODID:-//Evansburg Vineyard - ECPv6.15.17.1//NONSGML v1.0//EN
CALSCALE:GREGORIAN
METHOD:PUBLISH
X-WR-CALNAME:Evansburg Vineyard
X-ORIGINAL-URL:https://evansburgvineyards.com
X-WR-CALDESC:Events for Evansburg Vineyard
REFRESH-INTERVAL;VALUE=DURATION:PT1H
X-Robots-Tag:noindex
X-PUBLISHED-TTL:PT1H
BEGIN:VTIMEZONE
TZID:UTC
BEGIN:STANDARD
TZOFFSETFROM:+0000
TZOFFSETTO:+0000
TZNAME:UTC
DTSTART:20230101T000000
END:STANDARD
END:VTIMEZONE
BEGIN:VEVENT
DTSTART;TZID=UTC:20240518T110000
DTEND;TZID=UTC:20240518T120000
DTSTAMP:20260419T195342
CREATED:20240417T200850Z
LAST-MODIFIED:20240417T200909Z
UID:993057-1716030000-1716033600@evansburgvineyards.com
SUMMARY:Sound Bath Meditation | @jenwhoplaysthegong
DESCRIPTION:Sound Bath Meditation includes a complimentary glass of wine after the sound bath meditation. \nWhat is SOUND BATH? \nA deep dose of rest\, relaxation and reflection through sound and vibrational immersion with gong\, handpan\, singing bowls\, chimes\, drums and more! You will lie or sit comfortably for this hour of peaceful being. Deeply listening to intentional sound and vibration effortlessly relieves stress\, calms the mind\, improves sleep and overall focus plus so much more. \nBRING YOUR OWN yoga mat\, comforts (pillows\, blankets\, bolsters\, eye pillow) and perhaps a journal to reflect after the sound immersion. \nAbout your teacher: \nJen has delved into both the medical and holistic healing arts over the past decade. \nBeing a former nurse\, Jen’s sound immersion offerings are uniquely catered to the energy of the room or individual as learned from the bedside. Every encounter is intended for the recipient to feel safe\, warm and comfortable so they are able to release and deepen into their journey. \nPlease arrive 10min early so we we can start the meditation right on time! \nCLICK HERE TO BUY TICKETS! \n \nClick here to return to our events. \nClick here to go to our Store.
URL:https://evansburgvineyards.com/event/sound-bath-meditation-jenwhoplaysthegong-4/
LOCATION:Evansburg Vineyards\, 3857 Germantown Pike\, Collegeville\, PA\, 19426\, United States
CATEGORIES:Workshop
END:VEVENT
BEGIN:VEVENT
DTSTART;TZID=UTC:20240518T120000
DTEND;TZID=UTC:20240518T130000
DTSTAMP:20260419T195342
CREATED:20240402T115041Z
LAST-MODIFIED:20240402T115041Z
UID:992962-1716033600-1716037200@evansburgvineyards.com
SUMMARY:Winemaker's Tour
DESCRIPTION:Winemaker’s Tour: Come and enjoy a one hour interactive tour led by the winemaker! On the tour you will learn about our vineyard\, our winemaking process\, and gain insight into lab analysis of wine during fermentation and maturation. Afterwards\, you will sit down and relax with a wine tasting that is included in your tour with a free souvenir to take home. \nTours are held every Saturday at noon. \nPlease contact us through our website if you are interested in scheduling a private tour. \nBUY TICKETS HERE \nWinemaker’s Tour Flyer | Saturdays | 12PM | $30\nClick here to return to our events. \nClick here to go to our Store.
URL:https://evansburgvineyards.com/event/winemakers-tour-98/
LOCATION:Evansburg Vineyards\, 3857 Germantown Pike\, Collegeville\, PA\, 19426\, United States
CATEGORIES:Tour
ORGANIZER;CN="Evansburg Vineyards":MAILTO:operations@evansburgvineyards.com
END:VEVENT
BEGIN:VEVENT
DTSTART;TZID=UTC:20240518T160000
DTEND;TZID=UTC:20240518T190000
DTSTAMP:20260419T195342
CREATED:20240416T203121Z
LAST-MODIFIED:20240416T203121Z
UID:993041-1716048000-1716058800@evansburgvineyards.com
SUMMARY:Live Music: Rich Lanzilotti
DESCRIPTION:Live Music: Rich Lanzilotti \nRich Lanzilotti is a Philadelphia native who has been entertaining audiences since the 1970’s in various Top ’40s cover bands and in lounge acts at the Atlantic City casinos. After a hiatus from singing and playing\, Rich\, now a resident of Chester County\, Pennsylvania\, has returned to the stage – this time as a solo performer. Performing songs that are the soundtrack of our lives\, Rich plays and sings what is commonly referred to as “mellow Classic Rock” (along with a touch of country) accompanied by backing tracks for a full band sound. Rich is available for pubs\, bars\, parties and just about any venue where good music is appreciated. A splendid time is guaranteed for all! \n \nClick here to return to our events. \nClick here to go to our Store.
URL:https://evansburgvineyards.com/event/live-music-rich-lanzilotti/
LOCATION:Evansburg Vineyards\, 3857 Germantown Pike\, Collegeville\, PA\, 19426\, United States
CATEGORIES:Live Music
ORGANIZER;CN="Evansburg Vineyards":MAILTO:operations@evansburgvineyards.com
END:VEVENT
END:VCALENDAR