BEGIN:VCALENDAR
VERSION:2.0
PRODID:-//Evansburg Vineyard - ECPv6.15.17.1//NONSGML v1.0//EN
CALSCALE:GREGORIAN
METHOD:PUBLISH
X-WR-CALNAME:Evansburg Vineyard
X-ORIGINAL-URL:https://evansburgvineyards.com
X-WR-CALDESC:Events for Evansburg Vineyard
REFRESH-INTERVAL;VALUE=DURATION:PT1H
X-Robots-Tag:noindex
X-PUBLISHED-TTL:PT1H
BEGIN:VTIMEZONE
TZID:UTC
BEGIN:STANDARD
TZOFFSETFROM:+0000
TZOFFSETTO:+0000
TZNAME:UTC
DTSTART:20230101T000000
END:STANDARD
END:VTIMEZONE
BEGIN:VEVENT
DTSTART;TZID=UTC:20240501T170000
DTEND;TZID=UTC:20240501T200000
DTSTAMP:20260421T113148
CREATED:20240429T121823Z
LAST-MODIFIED:20240429T123600Z
UID:993100-1714582800-1714593600@evansburgvineyards.com
SUMMARY:HolmeStyle Food Pop Up
DESCRIPTION:Savor the flavors of craftsmanship of HolmeStyle Food Pop-Up\, where every dish is a delicious testament to the art of scratch-made cuisine. Join us at Evansburg Vineyards for an unforgettable culinary experience.  \nFrom 5-8pm or until the food runs out! \n \nClick here to return to our events. \nClick here to go to our Store.
URL:https://evansburgvineyards.com/event/holmestyle-food-pop-up-23/
LOCATION:Evansburg Vineyards\, 3857 Germantown Pike\, Collegeville\, PA\, 19426\, United States
CATEGORIES:Food Pop Up
END:VEVENT
BEGIN:VEVENT
DTSTART;TZID=UTC:20240501T190000
DTEND;TZID=UTC:20240501T190000
DTSTAMP:20260421T113148
CREATED:20240328T004730Z
LAST-MODIFIED:20240328T004730Z
UID:992937-1714590000-1714590000@evansburgvineyards.com
SUMMARY:Trivia Night | Golf Night! | WIN A WINE BOTTLE!
DESCRIPTION:Trivia Night: Unwind Every Wednesday at Evansburg Vineyards! \nExperience the Essence of Autumn Entertainment \nElevate your midweek routine at Evansburg Vineyards with our captivating Game Nights every Wednesday. Dive into the thrill of trivia\, where the enchantment of winter converges with delightful wines and lively entertainment. \nFall into Enchantment Every Wednesday \nJoin us every Wednesday and let Evansburg Vineyards be the backdrop to your memorable moments this season. We look forward to sharing laughter and trivia with you under the winter stars! \nWIN A WINE BOTTLE! \n \nClick here to return to our events. \nClick here to go to our Store.
URL:https://evansburgvineyards.com/event/trivia-night-golf-night-win-a-wine-bottle/
LOCATION:Evansburg Vineyards\, 3857 Germantown Pike\, Collegeville\, PA\, 19426\, United States
CATEGORIES:Game Night
ORGANIZER;CN="Evansburg Vineyards":MAILTO:operations@evansburgvineyards.com
END:VEVENT
END:VCALENDAR