BEGIN:VCALENDAR
VERSION:2.0
PRODID:-//Evansburg Vineyard - ECPv6.15.17.1//NONSGML v1.0//EN
CALSCALE:GREGORIAN
METHOD:PUBLISH
X-WR-CALNAME:Evansburg Vineyard
X-ORIGINAL-URL:https://evansburgvineyards.com
X-WR-CALDESC:Events for Evansburg Vineyard
REFRESH-INTERVAL;VALUE=DURATION:PT1H
X-Robots-Tag:noindex
X-PUBLISHED-TTL:PT1H
BEGIN:VTIMEZONE
TZID:UTC
BEGIN:STANDARD
TZOFFSETFROM:+0000
TZOFFSETTO:+0000
TZNAME:UTC
DTSTART:20230101T000000
END:STANDARD
END:VTIMEZONE
BEGIN:VEVENT
DTSTART;TZID=UTC:20240426T160000
DTEND;TZID=UTC:20240426T190000
DTSTAMP:20260426T001533
CREATED:20240327T221108Z
LAST-MODIFIED:20240327T221108Z
UID:992923-1714147200-1714158000@evansburgvineyards.com
SUMMARY:Live Music: David Cunningham
DESCRIPTION:Live Music: David Cunningham \nDavid is a singer & guitarist playing popular acoustic cover songs at venues all over the Philadelphia area.  A former Philadelphia Boys Choir member and WMMR building the band vocal finalist\, David performs a fun and eclectic mix of songs new and old including the Lumineers\, Dave Matthews\, Van Morrison\, The Cure\, Beatles and ‘90s staples among many others. \n \nClick here to return to our events. \nClick here to go to our Store.
URL:https://evansburgvineyards.com/event/live-music-david-cunningham-6/
LOCATION:Evansburg Vineyards\, 3857 Germantown Pike\, Collegeville\, PA\, 19426\, United States
CATEGORIES:Live Music
ORGANIZER;CN="Evansburg Vineyards":MAILTO:operations@evansburgvineyards.com
END:VEVENT
END:VCALENDAR