BEGIN:VCALENDAR
VERSION:2.0
PRODID:-//Evansburg Vineyard - ECPv6.15.17.1//NONSGML v1.0//EN
CALSCALE:GREGORIAN
METHOD:PUBLISH
X-ORIGINAL-URL:https://evansburgvineyards.com
X-WR-CALDESC:Events for Evansburg Vineyard
REFRESH-INTERVAL;VALUE=DURATION:PT1H
X-Robots-Tag:noindex
X-PUBLISHED-TTL:PT1H
BEGIN:VTIMEZONE
TZID:UTC
BEGIN:STANDARD
TZOFFSETFROM:+0000
TZOFFSETTO:+0000
TZNAME:UTC
DTSTART:20230101T000000
END:STANDARD
END:VTIMEZONE
BEGIN:VEVENT
DTSTART;TZID=UTC:20240419T160000
DTEND;TZID=UTC:20240419T190000
DTSTAMP:20260426T002323
CREATED:20240327T214344Z
LAST-MODIFIED:20240327T214344Z
UID:992917-1713542400-1713553200@evansburgvineyards.com
SUMMARY:Live Music: Too Many Cooks
DESCRIPTION:Live Music: Too Many Cooks \nHusband-and-wife duo Jamie Cook and Lesley Weissman-Cook fingerpick their way through a variety of acoustic musical styles\, creating sublime vocal harmonies. Their song list draws from contemporary and traditional roots music\, Americana\, Celtic tunes\, and a touch of country and blues. This versatile duo is also inspired by bluegrass\, jazz and depression-era tunes. \n \nClick here to return to our events. \nClick here to go to our Store.
URL:https://evansburgvineyards.com/event/live-music-too-many-cooks-2/
LOCATION:Evansburg Vineyards\, 3857 Germantown Pike\, Collegeville\, PA\, 19426\, United States
CATEGORIES:Live Music
ORGANIZER;CN="Evansburg Vineyards":MAILTO:operations@evansburgvineyards.com
END:VEVENT
END:VCALENDAR