BEGIN:VCALENDAR
VERSION:2.0
PRODID:-//Evansburg Vineyard - ECPv6.15.17.1//NONSGML v1.0//EN
CALSCALE:GREGORIAN
METHOD:PUBLISH
X-ORIGINAL-URL:https://evansburgvineyards.com
X-WR-CALDESC:Events for Evansburg Vineyard
REFRESH-INTERVAL;VALUE=DURATION:PT1H
X-Robots-Tag:noindex
X-PUBLISHED-TTL:PT1H
BEGIN:VTIMEZONE
TZID:UTC
BEGIN:STANDARD
TZOFFSETFROM:+0000
TZOFFSETTO:+0000
TZNAME:UTC
DTSTART:20230101T000000
END:STANDARD
END:VTIMEZONE
BEGIN:VEVENT
DTSTART;TZID=UTC:20240413T120000
DTEND;TZID=UTC:20240413T130000
DTSTAMP:20260425T122203
CREATED:20240223T175407Z
LAST-MODIFIED:20240223T175407Z
UID:992837-1713009600-1713013200@evansburgvineyards.com
SUMMARY:Winemaker's Tour
DESCRIPTION:Winemaker’s Tour: Come and enjoy a one hour interactive tour led by the winemaker! On the tour you will learn about our vineyard\, our winemaking process\, and gain insight into lab analysis of wine during fermentation and maturation. Afterwards\, you will sit down and relax with a wine tasting that is included in your tour with a free souvenir to take home. \nTours are held every Saturday at noon. \nPlease contact us through our website if you are interested in scheduling a private tour. \nBUY TICKETS HERE \nWinemaker’s Tour Flyer | Saturdays | 12PM | $30\nClick here to return to our events. \nClick here to go to our Store.
URL:https://evansburgvineyards.com/event/winemakers-tour-82/
LOCATION:Evansburg Vineyards\, 3857 Germantown Pike\, Collegeville\, PA\, 19426\, United States
CATEGORIES:Tour
ORGANIZER;CN="Evansburg Vineyards":MAILTO:operations@evansburgvineyards.com
END:VEVENT
BEGIN:VEVENT
DTSTART;TZID=UTC:20240413T140000
DTEND;TZID=UTC:20240413T170000
DTSTAMP:20260425T122203
CREATED:20240327T213323Z
LAST-MODIFIED:20240327T213403Z
UID:992913-1713016800-1713027600@evansburgvineyards.com
SUMMARY:Live Music: Richard Bryant
DESCRIPTION:Live Music: Richard Bryant \nWith years of experience and a passion for creating memorable performances\, Richard Clay Bryant is a talented musician who specializes in Classic Rock Guitar\, Blues Guitar Acoustic Guitar\, and Country. His journey into music began at Zaph’s Music in Philadelphia\, where he honed his guitar skills and developed his unique style. Since then\, he has played at various venues all across Pennsylvania\, \n \nClick here to return to our events. \nClick here to go to our Store.
URL:https://evansburgvineyards.com/event/live-music-richard-bryant/
LOCATION:Evansburg Vineyards\, 3857 Germantown Pike\, Collegeville\, PA\, 19426\, United States
CATEGORIES:Live Music
ORGANIZER;CN="Evansburg Vineyards":MAILTO:operations@evansburgvineyards.com
END:VEVENT
END:VCALENDAR