BEGIN:VCALENDAR
VERSION:2.0
PRODID:-//Evansburg Vineyard - ECPv6.15.17.1//NONSGML v1.0//EN
CALSCALE:GREGORIAN
METHOD:PUBLISH
X-ORIGINAL-URL:https://evansburgvineyards.com
X-WR-CALDESC:Events for Evansburg Vineyard
REFRESH-INTERVAL;VALUE=DURATION:PT1H
X-Robots-Tag:noindex
X-PUBLISHED-TTL:PT1H
BEGIN:VTIMEZONE
TZID:UTC
BEGIN:STANDARD
TZOFFSETFROM:+0000
TZOFFSETTO:+0000
TZNAME:UTC
DTSTART:20250101T000000
END:STANDARD
END:VTIMEZONE
BEGIN:VEVENT
DTSTART;TZID=UTC:20260424T170000
DTEND;TZID=UTC:20260424T200000
DTSTAMP:20260424T122145
CREATED:20260324T182539Z
LAST-MODIFIED:20260407T211038Z
UID:995011-1777050000-1777060800@evansburgvineyards.com
SUMMARY:Live Music: Doug McClure
DESCRIPTION:Live Music: Doug McClure \n\n\n\nDoug has a resident of these parts for many Moons. He was raised on a dairy farm in Worcester Twp. Doug started singing solos in church when he was still a boy soprano. He even had a stint singing High Brow music with the Mendohlson Club of Philadelphia. Doug has been performing in Restaurants\, Bars\, Weddings\, Private Parties and even for some Vineyards. For much of this time he was joined by his wife Wendy. Doug sings a variety of songs from the 60’s\, 70’s and some Standards. He mixes in some sing a longs and enjoys everyone joining in. \n\n\n\n\n\n\n\n\n\n\n\n\n\nClick here to return to our events. \nClick here to go to our Store.
URL:https://evansburgvineyards.com/event/live-music-melissa-ann-music-3/
LOCATION:Evansburg Vineyards\, 3857 Germantown Pike\, Collegeville\, PA\, 19426\, United States
CATEGORIES:Live Music
ORGANIZER;CN="Evansburg Vineyards":MAILTO:operations@evansburgvineyards.com
END:VEVENT
BEGIN:VEVENT
DTSTART;TZID=UTC:20260425T110000
DTEND;TZID=UTC:20260425T120000
DTSTAMP:20260424T122145
CREATED:20260112T215124Z
LAST-MODIFIED:20260112T215124Z
UID:994894-1777114800-1777118400@evansburgvineyards.com
SUMMARY:Winemaker's Tour
DESCRIPTION:Come and enjoy a one hour interactive tour led by the winemaker! On the tour you will learn about our vineyard\, our winemaking process\, and gain insight into lab analysis of wine during fermentation and maturation. Afterwards\, you will sit down and relax with a wine tasting that is included in your tour and a free souvenir to take home. \nTours are held every Saturday. Please contact us through our website if you are interested in scheduling a private tour. \nPlease arrive 5 minutes before the tour begins to check in and dress appropriately for the weather as a portion of the tour takes place outside. Tours begin promptly at 11am. We will create a reservation for your party at 12pm after the tour ends. \nTours are nonrefundable but can be rescheduled to a different date with 24 hour or more notice. \nPlease contact us through our website if you are interested in scheduling a private tour. \nBUY TICKETS HERE \n \nClick here to return to our events. \nClick here to go to our Store.
URL:https://evansburgvineyards.com/event/winemakers-tour-149-2-2-2-2-2-2-2-2-2-2-3-2-2-2-2-2-2-2-2-2-2-2-2-2-2-2-2-2-2-2-2-2-2/
LOCATION:Evansburg Vineyards\, 3857 Germantown Pike\, Collegeville\, PA\, 19426\, United States
CATEGORIES:Tour
ORGANIZER;CN="Evansburg Vineyards":MAILTO:operations@evansburgvineyards.com
END:VEVENT
BEGIN:VEVENT
DTSTART;TZID=UTC:20260425T160000
DTEND;TZID=UTC:20260425T190000
DTSTAMP:20260424T122145
CREATED:20260324T182835Z
LAST-MODIFIED:20260324T182835Z
UID:995012-1777132800-1777143600@evansburgvineyards.com
SUMMARY:Live Music: Piper Down
DESCRIPTION:Live Music: Piper Down Band \n\n\n\n\n\n\n\n\n\n\n\nPiper Down is a dynamic four-piece acoustic band based in the Collegeville/Phoenixville area\, bringing their unique sound to the local music scene for over five years. Known for their versatility and fresh approach\, patrons often describe them as having a “great sound\,” “versatile\,” and “refreshing.” Their setlist is as eclectic as it gets—spanning every genre with a seamless blend of energy and artistry. Whether it’s Fleetwood Mac or Britney Spears\, AC/DC or Lisa Loeb\, INXS or Hall & Oates\, Piper Down delivers a musical experience that keeps audiences engaged\, singing along\, and coming back for more.\n\n\n\n\n\n\n\n\n\n\n\n\n\n\n\n\n\n\n\n\n\n\n\n\n\n\n\n\n\n\n\n\n\n\n\n\n\n\n\n\n\n\n\n\n\nClick here to return to our events. \nClick here to go to our Store.
URL:https://evansburgvineyards.com/event/live-music-piper-down-28-2/
LOCATION:Evansburg Vineyards\, 3857 Germantown Pike\, Collegeville\, PA\, 19426\, United States
CATEGORIES:Live Music
ORGANIZER;CN="Evansburg Vineyards":MAILTO:operations@evansburgvineyards.com
END:VEVENT
BEGIN:VEVENT
DTSTART;TZID=UTC:20260426T140000
DTEND;TZID=UTC:20260426T170000
DTSTAMP:20260424T122145
CREATED:20260324T183400Z
LAST-MODIFIED:20260324T183400Z
UID:995013-1777212000-1777222800@evansburgvineyards.com
SUMMARY:Live Music: Love You Too Band
DESCRIPTION:Live Music: Love You Too Band \n\n\n\n\n\n\n\n\n\n\n\n\nLove You To (LYT) brings you the classic songs of the Beatles done with respect and our own unique twist. \nThe band’s performances are a sonic journey through the Beatles’ most creative period\, encompassing the psychedelic sounds of Sgt. Pepper’s Lonely Hearts Club Band\, the diverse tracks from The White Album\, the cohesive artistry of Abbey Road\, and the raw emotions of Let It Be. Audiences can expect to hear meticulously arranged live renditions of classics like “Strawberry Fields Forever\,” “Come Together\,” “Hey Jude\,” “Here Comes the Sun” and many\, many more. \n\n\n\n\n\n\n\n\n\n\n\n\n\n\n\n\n\n\n\n\n\n\n\n\n\n\n\n\n\n\n\n\n\n\n\n\n\n\n\n\n\n\n\n\n\nClick here to return to our events. \nClick here to go to our Store.
URL:https://evansburgvineyards.com/event/live-music-lyt-band/
LOCATION:Evansburg Vineyards\, 3857 Germantown Pike\, Collegeville\, PA\, 19426\, United States
CATEGORIES:Live Music
ORGANIZER;CN="Evansburg Vineyards":MAILTO:operations@evansburgvineyards.com
END:VEVENT
BEGIN:VEVENT
DTSTART;TZID=UTC:20260429T160000
DTEND;TZID=UTC:20260429T210000
DTSTAMP:20260424T122145
CREATED:20260327T190928Z
LAST-MODIFIED:20260327T190928Z
UID:995039-1777478400-1777496400@evansburgvineyards.com
SUMMARY:5th Anniversary Celebration
DESCRIPTION:Celebrate our 5th anniversary with us! \n \nClick here to return to our events. \nClick here to go to our Store.
URL:https://evansburgvineyards.com/event/anniversary-celebration/
LOCATION:Evansburg Vineyards\, 3857 Germantown Pike\, Collegeville\, PA\, 19426\, United States
CATEGORIES:EV Event
ORGANIZER;CN="Evansburg Vineyards":MAILTO:operations@evansburgvineyards.com
END:VEVENT
BEGIN:VEVENT
DTSTART;TZID=UTC:20260429T170000
DTEND;TZID=UTC:20260429T200000
DTSTAMP:20260424T122145
CREATED:20260409T153209Z
LAST-MODIFIED:20260409T153423Z
UID:995066-1777482000-1777492800@evansburgvineyards.com
SUMMARY:Live Music: Ziggy
DESCRIPTION:Live Music: Ziggy \n\n\n\n\n\n\n\nZiggy performs full time in the tri state area\, mostly as a solo act performing Classic Rock\, & Jazz Reggae Blues.  He just brought back his Stevie Ray Vaughan Tribute Band Sol Kitchen who opened for 38 special in the 90s.\n\n\n\n\n\n\n\n\n\n\n\n\n\n\n\n\n\n\n\n\n\n\n\n\n\n\n\n\n\n \nClick here to return to our events. \nClick here to go to our Store.
URL:https://evansburgvineyards.com/event/live-music-ziggy-3-2/
LOCATION:Evansburg Vineyards\, 3857 Germantown Pike\, Collegeville\, PA\, 19426\, United States
CATEGORIES:Anniversary,Live Music
ORGANIZER;CN="Evansburg Vineyards":MAILTO:operations@evansburgvineyards.com
END:VEVENT
END:VCALENDAR